BEGIN:VCALENDAR
VERSION:2.0
PRODID:-//The Reading Post - ECPv6.15.20//NONSGML v1.0//EN
CALSCALE:GREGORIAN
METHOD:PUBLISH
X-WR-CALNAME:The Reading Post
X-ORIGINAL-URL:https://thereadingpost.com
X-WR-CALDESC:Events for The Reading Post
REFRESH-INTERVAL;VALUE=DURATION:PT1H
X-Robots-Tag:noindex
X-PUBLISHED-TTL:PT1H
BEGIN:VTIMEZONE
TZID:America/New_York
BEGIN:DAYLIGHT
TZOFFSETFROM:-0500
TZOFFSETTO:-0400
TZNAME:EDT
DTSTART:20250309T070000
END:DAYLIGHT
BEGIN:STANDARD
TZOFFSETFROM:-0400
TZOFFSETTO:-0500
TZNAME:EST
DTSTART:20251102T060000
END:STANDARD
BEGIN:DAYLIGHT
TZOFFSETFROM:-0500
TZOFFSETTO:-0400
TZNAME:EDT
DTSTART:20260308T070000
END:DAYLIGHT
BEGIN:STANDARD
TZOFFSETFROM:-0400
TZOFFSETTO:-0500
TZNAME:EST
DTSTART:20261101T060000
END:STANDARD
BEGIN:DAYLIGHT
TZOFFSETFROM:-0500
TZOFFSETTO:-0400
TZNAME:EDT
DTSTART:20270314T070000
END:DAYLIGHT
BEGIN:STANDARD
TZOFFSETFROM:-0400
TZOFFSETTO:-0500
TZNAME:EST
DTSTART:20271107T060000
END:STANDARD
END:VTIMEZONE
BEGIN:VEVENT
DTSTART;TZID=America/New_York:20260503T150000
DTEND;TZID=America/New_York:20260503T170000
DTSTAMP:20260424T160330
CREATED:20260424T093928Z
LAST-MODIFIED:20260424T093928Z
UID:10000502-1777820400-1777827600@thereadingpost.com
SUMMARY:Songs of Freedom Concert Celebrates America’s 250th Anniversary
DESCRIPTION:Andover Choral Society and New England Classical Singers present a historic choral program with a live 18th-century reenactment\nAndover\, MA — Please join the Andover Choral Society\, directed by Matthew Buono\, and the New England Classical Singers\, directed by David Hodgkins\, for a musical celebration of our nation’s 250th Anniversary. \n“Songs of Freedom” offers an exploration of choral music created at pivotal times in American history from the 1700s to the 21st century. Themes of peace\, of conflict\, of gallantry\, of pioneering\, and of enduring hope resonate throughout this program – all presented by two of the Merrimack Valley’s most beloved choral groups. \nThis special performance features a guest appearance by The Danvers Alarm List Company\, an 18th-century living history reenactment group\, creating a unique patriotic experience. \nConcert tickets are $25 in advance\, $30 at the door\, and $10 for students. To purchase tickets or to learn more\, please visit andoverchoralsociety.org or newenglandclassical.org. \nThe South Church of Andover is located at 41 Central Street\, Andover\, MA\, and is handicapped accessible. Off-street parking is available.
URL:https://thereadingpost.com/event/songs-of-freedom-concert-celebrates-americas-250th-anniversary/
LOCATION:The South Church of Andover\, 41 Central Street\, Andover\, MA\, 01810\, United States
ATTACH;FMTTYPE=image/jpeg:https://thereadingpost.com/wp-content/uploads/2026/04/Songs-of-Freedom-PosterFinal.jpg
END:VEVENT
END:VCALENDAR