BEGIN:VCALENDAR
VERSION:2.0
PRODID:-//The Reading Post - ECPv6.15.20//NONSGML v1.0//EN
CALSCALE:GREGORIAN
METHOD:PUBLISH
X-WR-CALNAME:The Reading Post
X-ORIGINAL-URL:https://thereadingpost.com
X-WR-CALDESC:Events for The Reading Post
REFRESH-INTERVAL;VALUE=DURATION:PT1H
X-Robots-Tag:noindex
X-PUBLISHED-TTL:PT1H
BEGIN:VTIMEZONE
TZID:America/New_York
BEGIN:DAYLIGHT
TZOFFSETFROM:-0500
TZOFFSETTO:-0400
TZNAME:EDT
DTSTART:20230312T070000
END:DAYLIGHT
BEGIN:STANDARD
TZOFFSETFROM:-0400
TZOFFSETTO:-0500
TZNAME:EST
DTSTART:20231105T060000
END:STANDARD
BEGIN:DAYLIGHT
TZOFFSETFROM:-0500
TZOFFSETTO:-0400
TZNAME:EDT
DTSTART:20240310T070000
END:DAYLIGHT
BEGIN:STANDARD
TZOFFSETFROM:-0400
TZOFFSETTO:-0500
TZNAME:EST
DTSTART:20241103T060000
END:STANDARD
BEGIN:DAYLIGHT
TZOFFSETFROM:-0500
TZOFFSETTO:-0400
TZNAME:EDT
DTSTART:20250309T070000
END:DAYLIGHT
BEGIN:STANDARD
TZOFFSETFROM:-0400
TZOFFSETTO:-0500
TZNAME:EST
DTSTART:20251102T060000
END:STANDARD
BEGIN:DAYLIGHT
TZOFFSETFROM:-0500
TZOFFSETTO:-0400
TZNAME:EDT
DTSTART:20260308T070000
END:DAYLIGHT
BEGIN:STANDARD
TZOFFSETFROM:-0400
TZOFFSETTO:-0500
TZNAME:EST
DTSTART:20261101T060000
END:STANDARD
END:VTIMEZONE
BEGIN:VEVENT
DTSTART;TZID=America/New_York:20251009T150000
DTEND;TZID=America/New_York:20251009T180000
DTSTAMP:20260424T155338
CREATED:20250922T170059Z
LAST-MODIFIED:20250922T170059Z
UID:10000302-1760022000-1760032800@thereadingpost.com
SUMMARY:RMLD Annual Power Week Open House
DESCRIPTION:Scheduled for Thursday\, October 9\, 3 to 6 p.m.\nCustomers are invited to a fun-filled event to celebrate Public Power and the spirit of community\nREADING\, MA – In celebration of the 2025 National Public Power Week (October 6-10)\, Reading Municipal Light Department (RMLD) invites customers to attend an open house on Thursday\, October 9\, from 3 to 6 p.m. at the RMLD Garage located at 218 Ash Street\, Reading. \nThis fun and educational event will feature family-friendly activities\, including face painting\, balloon art\, a caricaturist\, pumpkin decorating\, lineworker demonstrations\, touch-a-truck\, and more. RMLD staff will be on hand to educate attendees about electricity\, electrical safety\, energy conservation\, and to share information about RMLD programs. \n“We are excited to host this popular event each year\, where we bring the community together\, share information about key RMLD programs\, and provide fun\, family-friendly entertainment\,” said RMLD Interim General Manager Paul Heanue. \nFor event details and updates\, visit rmld.com/OpenHouse. \nPublic Power Week is an annual national event to celebrate the more than 2\,000 community-owned\, not-for-profit utilities that provide electricity to 49 million Americans. \nAbout Reading Municipal Light Department\nEstablished in 1894\, Reading Municipal Light Department (RMLD) is a municipal electric utility serving over 70\,000 residents in Reading\, North Reading\, Wilmington\, and Lynnfield Center\, Massachusetts. RMLD is the largest of the 40 municipal light departments in Massachusetts\, based on electricity load\, is not-for-profit\, and is locally owned and controlled. The RMLD is committed to serving our customers with reliable\, low-cost\, and increasingly non-carbon energy. For more information visit: rmld.com
URL:https://thereadingpost.com/event/rmld-annual-power-week-open-house/
LOCATION:RMLD\, 230 Ash Street\, Reading\, MA\, 01867\, United States
ATTACH;FMTTYPE=image/jpeg:https://thereadingpost.com/wp-content/uploads/2022/10/2022-1006-5dmk3.2-RMLD-Open-House-kenangcm-JPG10-HX0A0532-e1665445070547.jpeg
END:VEVENT
BEGIN:VEVENT
DTSTART;VALUE=DATE:20250509
DTEND;VALUE=DATE:20250511
DTSTAMP:20260424T155338
CREATED:20250505T191508Z
LAST-MODIFIED:20250505T191508Z
UID:10000224-1746748800-1746921599@thereadingpost.com
SUMMARY:ReadingCares and Climate Committee Host Annual Bike Recycling & Give-Away
DESCRIPTION:Donate a bike\, receive a voucher\, and help provide free\, safe bicycles — May 9–10\n\nReading\, MA — ReadingCares\, in partnership with the Reading Climate Advisory Committee\, is proud to announce the return of the annual Bike Recycling and Give-Away\, taking place Friday\, May 9 and Saturday\, May 10 at Reading Municipal Light Department (RMLD)\, 230 Ash Street. \nCommunity members are invited to donate gently used bikes in good working condition during the following drop-off times: \n\nFriday\, May 9 from 11:00 AM to 12:30 PM\nSaturday\, May 10 from 9:00 AM to 11:00 AM\n\nDonors of usable bikes will receive a voucher for early entry to the Bike Give-Away\, which begins at 12:00 PM on Saturday\, May 10. The event will open to the general public at 12:30 PM\, when all attendees are welcome to pick up a free\, recycled bicycle. \nThis community-driven initiative helps provide free\, safe bicycles to families and individuals across Reading while recycling. \nEvent Location:\nReading Municipal Light Department (RMLD)\n230 Ash Street\, Reading\, MA \n\nLimited parking is available for bike drop-off only.\nNo parking at or behind RMLD during the Give-Away.\n\nTo volunteer or for more information\, contact: ReadingCares01867@gmail.com
URL:https://thereadingpost.com/event/readingcares-and-climate-committee-host-annual-bike-recycling-give-away/
LOCATION:RMLD\, 230 Ash Street\, Reading\, MA\, 01867\, United States
ATTACH;FMTTYPE=image/jpeg:https://thereadingpost.com/wp-content/uploads/2025/05/image-edited.jpg
END:VEVENT
BEGIN:VEVENT
DTSTART;TZID=America/New_York:20241010T150000
DTEND;TZID=America/New_York:20241010T180000
DTSTAMP:20260424T155338
CREATED:20240913T191221Z
LAST-MODIFIED:20240913T191221Z
UID:10000076-1728572400-1728583200@thereadingpost.com
SUMMARY:RMLD to Host Open House to Celebrate National Public Power Week
DESCRIPTION:In celebration of National Public Power Week (October 3-9)\, Reading Municipal Light Department (RMLD) invites customers to attend an Open House on Thursday\, October 10th from 3 – 6pm at the RMLD Garage located at 218 Ash Street\, Reading.
URL:https://thereadingpost.com/event/rmld-to-host-open-house-to-celebrate-national-public-power-week/
LOCATION:RMLD\, 230 Ash Street\, Reading\, MA\, 01867\, United States
ATTACH;FMTTYPE=image/png:https://thereadingpost.com/wp-content/uploads/2024/09/ppw-2024-web-hero_091124-v2.png
END:VEVENT
BEGIN:VEVENT
DTSTART;TZID=America/New_York:20240504T090000
DTEND;TZID=America/New_York:20240504T110000
DTSTAMP:20260424T155338
CREATED:20240403T202650Z
LAST-MODIFIED:20240403T202953Z
UID:10000020-1714813200-1714820400@thereadingpost.com
SUMMARY:Reading Cares Bicycle Recycling & Give-Away
DESCRIPTION:
URL:https://thereadingpost.com/event/reading-cares-bicycle-recycling-give-away-2/
LOCATION:RMLD\, 230 Ash Street\, Reading\, MA\, 01867\, United States
ATTACH;FMTTYPE=image/jpeg:https://thereadingpost.com/wp-content/uploads/2024/04/‎bike24.‎001-edited.jpeg
END:VEVENT
BEGIN:VEVENT
DTSTART;TZID=America/New_York:20240503T110000
DTEND;TZID=America/New_York:20240503T123000
DTSTAMP:20260424T155338
CREATED:20240403T202455Z
LAST-MODIFIED:20240403T203030Z
UID:10000019-1714734000-1714739400@thereadingpost.com
SUMMARY:Reading Cares Bicycle Recycling & Give-Away
DESCRIPTION:
URL:https://thereadingpost.com/event/reading-cares-bicycle-recycling-give-away/
LOCATION:RMLD\, 230 Ash Street\, Reading\, MA\, 01867\, United States
ATTACH;FMTTYPE=image/jpeg:https://thereadingpost.com/wp-content/uploads/2024/04/‎bike24.‎001-edited.jpeg
END:VEVENT
END:VCALENDAR