BEGIN:VCALENDAR
VERSION:2.0
PRODID:-//The Reading Post - ECPv6.15.20//NONSGML v1.0//EN
CALSCALE:GREGORIAN
METHOD:PUBLISH
X-WR-CALNAME:The Reading Post
X-ORIGINAL-URL:https://thereadingpost.com
X-WR-CALDESC:Events for The Reading Post
REFRESH-INTERVAL;VALUE=DURATION:PT1H
X-Robots-Tag:noindex
X-PUBLISHED-TTL:PT1H
BEGIN:VTIMEZONE
TZID:America/New_York
BEGIN:DAYLIGHT
TZOFFSETFROM:-0500
TZOFFSETTO:-0400
TZNAME:EDT
DTSTART:20230312T070000
END:DAYLIGHT
BEGIN:STANDARD
TZOFFSETFROM:-0400
TZOFFSETTO:-0500
TZNAME:EST
DTSTART:20231105T060000
END:STANDARD
BEGIN:DAYLIGHT
TZOFFSETFROM:-0500
TZOFFSETTO:-0400
TZNAME:EDT
DTSTART:20240310T070000
END:DAYLIGHT
BEGIN:STANDARD
TZOFFSETFROM:-0400
TZOFFSETTO:-0500
TZNAME:EST
DTSTART:20241103T060000
END:STANDARD
BEGIN:DAYLIGHT
TZOFFSETFROM:-0500
TZOFFSETTO:-0400
TZNAME:EDT
DTSTART:20250309T070000
END:DAYLIGHT
BEGIN:STANDARD
TZOFFSETFROM:-0400
TZOFFSETTO:-0500
TZNAME:EST
DTSTART:20251102T060000
END:STANDARD
BEGIN:DAYLIGHT
TZOFFSETFROM:-0500
TZOFFSETTO:-0400
TZNAME:EDT
DTSTART:20260308T070000
END:DAYLIGHT
BEGIN:STANDARD
TZOFFSETFROM:-0400
TZOFFSETTO:-0500
TZNAME:EST
DTSTART:20261101T060000
END:STANDARD
END:VTIMEZONE
BEGIN:VEVENT
DTSTART;TZID=America/New_York:20250110T190000
DTEND;TZID=America/New_York:20250110T190000
DTSTAMP:20260424T160422
CREATED:20241219T083045Z
LAST-MODIFIED:20241219T083053Z
UID:10000165-1736535600-1736535600@thereadingpost.com
SUMMARY:Coolidge Middle School Drama Club to Present Frozen JR.
DESCRIPTION:Nearly 100 students from Coolidge Middle School will take audiences to the wintry kingdom of Arendelle in a three-night performance of Frozen JR. from Jan. 10-12\, 2025\, at Reading Memorial High School. \nThe musical will be held at the William E. Endslow Performing Arts Center at Reading Memorial High School on: \nFriday\, Jan. 10 at 7 p.m.\nSaturday\, Jan. 11 at 7 p.m.\nSunday\, Jan. 12 at 2 p.m. \nFrozen JR. is based on the 2018 Broadway musical and features all the memorable songs from the animated film\, with music and lyrics by Kristen Anderson-Lopez and Robert Lopez\, plus five new songs written for the Broadway production. \nThe Coolidge Drama Club cast and crew will expand upon the emotional relationship and journey between Princesses Anna and Elsa. When faced with danger\, the two discover their hidden potential and the bond of sisterhood.  \n“I’m so proud of the students for their hard work these past several months and thankful for all the volunteer support to bring this production to life\,” said Coolidge Drama director and producer Stephen MacDonald. “We are confident that this year’s production of Frozen JR. will be an enjoyable\, rewarding and magical experience that will reinforce the important values of teamwork\, commitment\, responsibility\, cooperation and fun while instilling an appreciation for the dramatic and musical arts.” \nTickets to attend shows in person or via livestream are available for purchase at https://cur8.com/projects/CoolidgeDrama.
URL:https://thereadingpost.com/event/coolidge-middle-school-drama-club-to-present-frozen-jr/
LOCATION:RMHS Performing Arts Center\, 62 Oakland Road\, Reading\, MA\, 01867\, United States
ATTACH;FMTTYPE=image/png:https://thereadingpost.com/wp-content/uploads/2024/12/download.png
END:VEVENT
BEGIN:VEVENT
DTSTART;TZID=America/New_York:20241214T100000
DTEND;TZID=America/New_York:20241214T150000
DTSTAMP:20260424T160422
CREATED:20241026T171035Z
LAST-MODIFIED:20241113T071121Z
UID:10000133-1734170400-1734188400@thereadingpost.com
SUMMARY:Dickens Holiday Marketplace and Craft Fair
DESCRIPTION:This event is a wonderful holiday marketplace featuring approximately 50 craft vendors exhibiting and selling their creations. The RMHS Main Street hallway will be transformed with seasonal decorations and musical performances throughout the day. We look forward to strolling carolers\, Shakespearean actors\, dance troupes\, musicians\, refreshments – and 50+ crafters/vendors\, all under one weather-proof roof. Patrons will enjoy shopping\, relaxing with a cup of cocoa\, and taking in the holiday spirit. Free admission! Free parking! \nThe Dickens Fair is a fundraiser for Parents Supporting Student Theatre (PSST)\, which supports The RMHS Drama Club. All fundraising enhances our students’ experiences by paying for extracurricular teachers (Playwriting\, Shakespeare\, Improv\, and Technical Directors)\, providing student scholarships\, covering extra production costs (mic batteries\, fog machines\, shop tools\, etc.)\, and 0feeding working students who spend 8 hours on a Saturday building sets! \nFor vendor inquiries\, please contact rmhsdickensfair@gmail.com
URL:https://thereadingpost.com/event/dickens-holiday-marketplace-and-craft-fair/
LOCATION:RMHS Performing Arts Center\, 62 Oakland Road\, Reading\, MA\, 01867\, United States
ATTACH;FMTTYPE=image/jpeg:https://thereadingpost.com/wp-content/uploads/2024/10/dickens-holiday-24.jpg
END:VEVENT
BEGIN:VEVENT
DTSTART;TZID=America/New_York:20241211T190000
DTEND;TZID=America/New_York:20241211T190000
DTSTAMP:20260424T160422
CREATED:20241202T195227Z
LAST-MODIFIED:20241202T195257Z
UID:10000160-1733943600-1733943600@thereadingpost.com
SUMMARY:RMHS Choirs Winter Songfest
DESCRIPTION:The annual RMHS Winter Songfest concert will take place on Wednesday\, December 11\, at 7:00 p.m. in the Reading High School Performing Arts Center. The concert is free to all and will feature students from six different student ensembles. Celebrate the season with songs and support our talented RMHS choir members!
URL:https://thereadingpost.com/event/rmhs-choirs-winter-songfest/
LOCATION:RMHS Performing Arts Center\, 62 Oakland Road\, Reading\, MA\, 01867\, United States
ATTACH;FMTTYPE=image/jpeg:https://thereadingpost.com/wp-content/uploads/2024/12/WINTER-SONGFEST-GRAPHIC2.jpg
END:VEVENT
BEGIN:VEVENT
DTSTART;TZID=America/New_York:20241207T193000
DTEND;TZID=America/New_York:20241207T193000
DTSTAMP:20260424T160422
CREATED:20241202T233703Z
LAST-MODIFIED:20241202T233708Z
UID:10000163-1733599800-1733599800@thereadingpost.com
SUMMARY:Reading Community Singers Annual Holiday Concert
DESCRIPTION:Reading Community Singers wants to invite everyone to their Annual Holiday Concert on December 7\, at 7:30 at Reading Memorial High School – This year\, it is entitled “Light Up the World ~ Holidays in the Movies.” They’ve been rehearsing for months a great mix of music to celebrate the season – Christmas\, Hanukkah\, Winter\, and Family – with Classic and Modern Favorites and a Sing-Along with some very special guests. As the title suggests\, there’s some music to make the Holidays even brighter – like “Getting’ in the Mood (for Christmas)\,” as well as selections from your favorite movie musicals! It’s a wonderful evening for all ages.  \nIn addition to a featured youth choir\, their Guest Artists this year are The Sniveling Norburys (aka The Jingling Noel-berries for the holiday season)\, made up of five very talented RCS members who are always sure to be entertaining. \nWhatever Holidays you celebrate\, take a well-deserved break from your preparations and join RCS for an enjoyable evening of Musical Merrymaking! Tickets are available from any Chorus member\, as well as online and at the door\, with discounts for Seniors and Students. For Advance Tickets\, go to ReadingCommunitySingers.org/tickets.
URL:https://thereadingpost.com/event/reading-community-singers-annual-holiday-concert/
LOCATION:RMHS Performing Arts Center\, 62 Oakland Road\, Reading\, MA\, 01867\, United States
ATTACH;FMTTYPE=image/jpeg:https://thereadingpost.com/wp-content/uploads/2024/12/rcs24-Light-up-the-world.jpg
END:VEVENT
BEGIN:VEVENT
DTSTART;TZID=America/New_York:20241117T140000
DTEND;TZID=America/New_York:20241117T140000
DTSTAMP:20260424T160422
CREATED:20241017T200135Z
LAST-MODIFIED:20241017T200139Z
UID:10000118-1731852000-1731852000@thereadingpost.com
SUMMARY:We Will Rock You – School Edition Presented by RMHS Drama Club
DESCRIPTION:Reading Memorial High School Drama Club presents “We Will Rock You – School Edition\,” a jukebox musical based on the songs of the British rock band Queen with a book by Ben Elton.
URL:https://thereadingpost.com/event/we-will-rock-you-school-edition-presented-by-rmhs-drama-club-6/
LOCATION:RMHS Performing Arts Center\, 62 Oakland Road\, Reading\, MA\, 01867\, United States
ATTACH;FMTTYPE=image/jpeg:https://thereadingpost.com/wp-content/uploads/2024/10/We-Will-Rock-You-.jpg
END:VEVENT
BEGIN:VEVENT
DTSTART;TZID=America/New_York:20241116T193000
DTEND;TZID=America/New_York:20241116T193000
DTSTAMP:20260424T160422
CREATED:20241017T200003Z
LAST-MODIFIED:20241017T200008Z
UID:10000117-1731785400-1731785400@thereadingpost.com
SUMMARY:We Will Rock You – School Edition Presented by RMHS Drama Club
DESCRIPTION:Reading Memorial High School Drama Club presents “We Will Rock You – School Edition\,” a jukebox musical based on the songs of the British rock band Queen with a book by Ben Elton.
URL:https://thereadingpost.com/event/we-will-rock-you-school-edition-presented-by-rmhs-drama-club-5/
LOCATION:RMHS Performing Arts Center\, 62 Oakland Road\, Reading\, MA\, 01867\, United States
ATTACH;FMTTYPE=image/jpeg:https://thereadingpost.com/wp-content/uploads/2024/10/We-Will-Rock-You-.jpg
END:VEVENT
BEGIN:VEVENT
DTSTART;TZID=America/New_York:20241115T193000
DTEND;TZID=America/New_York:20241115T193000
DTSTAMP:20260424T160422
CREATED:20241017T195855Z
LAST-MODIFIED:20241017T195859Z
UID:10000116-1731699000-1731699000@thereadingpost.com
SUMMARY:We Will Rock You – School Edition Presented by RMHS Drama Club
DESCRIPTION:Reading Memorial High School Drama Club presents “We Will Rock You – School Edition\,” a jukebox musical based on the songs of the British rock band Queen with a book by Ben Elton.
URL:https://thereadingpost.com/event/we-will-rock-you-school-edition-presented-by-rmhs-drama-club-4/
LOCATION:RMHS Performing Arts Center\, 62 Oakland Road\, Reading\, MA\, 01867\, United States
ATTACH;FMTTYPE=image/jpeg:https://thereadingpost.com/wp-content/uploads/2024/10/We-Will-Rock-You-.jpg
END:VEVENT
BEGIN:VEVENT
DTSTART;TZID=America/New_York:20241110T140000
DTEND;TZID=America/New_York:20241110T140000
DTSTAMP:20260424T160422
CREATED:20241017T195654Z
LAST-MODIFIED:20241017T195718Z
UID:10000115-1731247200-1731247200@thereadingpost.com
SUMMARY:We Will Rock You – School Edition Presented by RMHS Drama Club
DESCRIPTION:Reading Memorial High School Drama Club presents “We Will Rock You – School Edition\,” a jukebox musical based on the songs of the British rock band Queen with a book by Ben Elton.
URL:https://thereadingpost.com/event/we-will-rock-you-school-edition-presented-by-rmhs-drama-club-3/
LOCATION:RMHS Performing Arts Center\, 62 Oakland Road\, Reading\, MA\, 01867\, United States
ATTACH;FMTTYPE=image/jpeg:https://thereadingpost.com/wp-content/uploads/2024/10/We-Will-Rock-You-.jpg
END:VEVENT
BEGIN:VEVENT
DTSTART;TZID=America/New_York:20241109T193000
DTEND;TZID=America/New_York:20241109T193000
DTSTAMP:20260424T160422
CREATED:20241017T195456Z
LAST-MODIFIED:20241017T195500Z
UID:10000114-1731180600-1731180600@thereadingpost.com
SUMMARY:We Will Rock You – School Edition Presented by RMHS Drama Club
DESCRIPTION:Reading Memorial High School Drama Club presents “We Will Rock You – School Edition\,” a jukebox musical based on the songs of the British rock band Queen with a book by Ben Elton.
URL:https://thereadingpost.com/event/we-will-rock-you-school-edition-presented-by-rmhs-drama-club-2/
LOCATION:RMHS Performing Arts Center\, 62 Oakland Road\, Reading\, MA\, 01867\, United States
ATTACH;FMTTYPE=image/jpeg:https://thereadingpost.com/wp-content/uploads/2024/10/We-Will-Rock-You-.jpg
END:VEVENT
BEGIN:VEVENT
DTSTART;TZID=America/New_York:20241108T193000
DTEND;TZID=America/New_York:20241108T193000
DTSTAMP:20260424T160422
CREATED:20241017T195230Z
LAST-MODIFIED:20241017T195235Z
UID:10000113-1731094200-1731094200@thereadingpost.com
SUMMARY:We Will Rock You – School Edition Presented by RMHS Drama Club
DESCRIPTION:Reading Memorial High School Drama Club presents “We Will Rock You – School Edition\,” a jukebox musical based on the songs of the British rock band Queen with a book by Ben Elton.
URL:https://thereadingpost.com/event/we-will-rock-you-school-edition-presented-by-rmhs-drama-club/
LOCATION:RMHS Performing Arts Center\, 62 Oakland Road\, Reading\, MA\, 01867\, United States
ATTACH;FMTTYPE=image/jpeg:https://thereadingpost.com/wp-content/uploads/2024/10/We-Will-Rock-You-.jpg
END:VEVENT
BEGIN:VEVENT
DTSTART;TZID=America/New_York:20240511T193000
DTEND;TZID=America/New_York:20240511T193000
DTSTAMP:20260424T160422
CREATED:20240426T185237Z
LAST-MODIFIED:20240426T185305Z
UID:10000036-1715455800-1715455800@thereadingpost.com
SUMMARY:Reading Community Singers ~ Spring Concert ~ “Melodies of Memory”
DESCRIPTION:
URL:https://thereadingpost.com/event/rcs-melodies-of-memory/
LOCATION:RMHS Performing Arts Center\, 62 Oakland Road\, Reading\, MA\, 01867\, United States
ATTACH;FMTTYPE=image/jpeg:https://thereadingpost.com/wp-content/uploads/2024/04/image.jpg
END:VEVENT
BEGIN:VEVENT
DTSTART;TZID=America/New_York:20240410T163000
DTEND;TZID=America/New_York:20240410T163000
DTSTAMP:20260424T160422
CREATED:20240405T172457Z
LAST-MODIFIED:20240408T082215Z
UID:10000021-1712766600-1712766600@thereadingpost.com
SUMMARY:Artsfest Monday\, April 8
DESCRIPTION:
URL:https://thereadingpost.com/event/artsfest-240410/
LOCATION:RMHS Performing Arts Center\, 62 Oakland Road\, Reading\, MA\, 01867\, United States
ATTACH;FMTTYPE=image/jpeg:https://thereadingpost.com/wp-content/uploads/2024/04/artsfest24-1.jpeg
END:VEVENT
END:VCALENDAR