BEGIN:VCALENDAR
VERSION:2.0
PRODID:-//The Reading Post - ECPv6.15.20//NONSGML v1.0//EN
CALSCALE:GREGORIAN
METHOD:PUBLISH
X-ORIGINAL-URL:https://thereadingpost.com
X-WR-CALDESC:Events for The Reading Post
REFRESH-INTERVAL;VALUE=DURATION:PT1H
X-Robots-Tag:noindex
X-PUBLISHED-TTL:PT1H
BEGIN:VTIMEZONE
TZID:America/New_York
BEGIN:DAYLIGHT
TZOFFSETFROM:-0500
TZOFFSETTO:-0400
TZNAME:EDT
DTSTART:20250309T070000
END:DAYLIGHT
BEGIN:STANDARD
TZOFFSETFROM:-0400
TZOFFSETTO:-0500
TZNAME:EST
DTSTART:20251102T060000
END:STANDARD
BEGIN:DAYLIGHT
TZOFFSETFROM:-0500
TZOFFSETTO:-0400
TZNAME:EDT
DTSTART:20260308T070000
END:DAYLIGHT
BEGIN:STANDARD
TZOFFSETFROM:-0400
TZOFFSETTO:-0500
TZNAME:EST
DTSTART:20261101T060000
END:STANDARD
BEGIN:DAYLIGHT
TZOFFSETFROM:-0500
TZOFFSETTO:-0400
TZNAME:EDT
DTSTART:20270314T070000
END:DAYLIGHT
BEGIN:STANDARD
TZOFFSETFROM:-0400
TZOFFSETTO:-0500
TZNAME:EST
DTSTART:20271107T060000
END:STANDARD
END:VTIMEZONE
BEGIN:VEVENT
DTSTART;TZID=America/New_York:20260516T090000
DTEND;TZID=America/New_York:20260516T120000
DTSTAMP:20260424T185912
CREATED:20260412T230432Z
LAST-MODIFIED:20260412T230456Z
UID:10000422-1778922000-1778932800@thereadingpost.com
SUMMARY:Reading Garden Club to Hold Annual Plant Sale
DESCRIPTION:Plants\, perennials\, and homemade baked goods available on the Town Common\nReading\, MA — Community invited to shop plants and homemade baked goods on the Town Common on May 16. \nThe Reading Garden Club will host its annual plant sale on Saturday\, May 16\, 2026\, from 9:00 AM to 12:00 PM on the Reading Town Common. The event will be held rain or shine. \nA wide variety of plants will be available for purchase\, including hanging baskets\, annuals\, and vegetables. One of the most popular features of the sale is the selection of perennials sourced directly from members’ own gardens. \nIn addition to plants\, the event will include a bake sale featuring homemade goods prepared by club members using their favorite recipes. \nCash\, checks\, and credit cards will be accepted. \nCommunity members are encouraged to stop by\, support local gardening efforts\, and enjoy a spring tradition on the Town Common.
URL:https://thereadingpost.com/event/reading-garden-club-to-hold-annual-plant-sale/
LOCATION:Reading Town Common\, 16 Lowell Street\, Reading\, MA\, 01867\, United States
ATTACH;FMTTYPE=image/jpeg:https://thereadingpost.com/wp-content/uploads/2026/04/RGC-Plant-Sale-poster-2026.jpg
END:VEVENT
END:VCALENDAR