BEGIN:VCALENDAR
VERSION:2.0
PRODID:-//The Reading Post - ECPv6.15.20//NONSGML v1.0//EN
CALSCALE:GREGORIAN
METHOD:PUBLISH
X-ORIGINAL-URL:https://thereadingpost.com
X-WR-CALDESC:Events for The Reading Post
REFRESH-INTERVAL;VALUE=DURATION:PT1H
X-Robots-Tag:noindex
X-PUBLISHED-TTL:PT1H
BEGIN:VTIMEZONE
TZID:America/New_York
BEGIN:DAYLIGHT
TZOFFSETFROM:-0500
TZOFFSETTO:-0400
TZNAME:EDT
DTSTART:20230312T070000
END:DAYLIGHT
BEGIN:STANDARD
TZOFFSETFROM:-0400
TZOFFSETTO:-0500
TZNAME:EST
DTSTART:20231105T060000
END:STANDARD
BEGIN:DAYLIGHT
TZOFFSETFROM:-0500
TZOFFSETTO:-0400
TZNAME:EDT
DTSTART:20240310T070000
END:DAYLIGHT
BEGIN:STANDARD
TZOFFSETFROM:-0400
TZOFFSETTO:-0500
TZNAME:EST
DTSTART:20241103T060000
END:STANDARD
BEGIN:DAYLIGHT
TZOFFSETFROM:-0500
TZOFFSETTO:-0400
TZNAME:EDT
DTSTART:20250309T070000
END:DAYLIGHT
BEGIN:STANDARD
TZOFFSETFROM:-0400
TZOFFSETTO:-0500
TZNAME:EST
DTSTART:20251102T060000
END:STANDARD
END:VTIMEZONE
BEGIN:VEVENT
DTSTART;TZID=America/New_York:20240903T183000
DTEND;TZID=America/New_York:20240903T183000
DTSTAMP:20260424T155737
CREATED:20240827T215124Z
LAST-MODIFIED:20240827T215143Z
UID:10000071-1725388200-1725388200@thereadingpost.com
SUMMARY:An Evening with Survivor of Oct. 7th
DESCRIPTION:SHYE KLEIN WEINSTEIN\nShye is a 27 year old Canadian Israeli photographer. He is a survivor of the Nova Music Festival which he attended with his cousins and friends. He details the magic of the night and then the terrifying chaos of that morning alongside his powerful photography. Shye has exhibited his work widely and shared his testimony at numerous college campuses and communities across North America. Shye has dedicated much of his life since October 7 to educating the world about the massacre and supporting survivors.
URL:https://thereadingpost.com/event/survivor-of-oct-7th/
LOCATION:Reading Public Library\, 64 Middlesex Avenue\, Reading\, MA\, 01867\, United States
ATTACH;FMTTYPE=image/jpeg:https://thereadingpost.com/wp-content/uploads/2024/08/IMG_6415.jpeg
END:VEVENT
BEGIN:VEVENT
DTSTART;TZID=America/New_York:20240624T190000
DTEND;TZID=America/New_York:20240624T190000
DTSTAMP:20260424T155737
CREATED:20240618T183308Z
LAST-MODIFIED:20240618T183308Z
UID:10000059-1719255600-1719255600@thereadingpost.com
SUMMARY:Concert on the Library Lawn - Les Sampou and the Dirty Martinis
DESCRIPTION:Kick off summer with an hour-long outdoor concert featuring vocalist Les Sampou and the Dirty Martinis Band. This quintet brings the American Songbook to life with a unique and sultry take on the classics—the music of Billie Holiday\, Sarah Vaughn\, Diana Krall\, Peggy Lee\, George Gershwin and Harold Arlen.
URL:https://thereadingpost.com/event/concert-on-the-library-lawn-les-sampou-and-the-dirty-martinis/
LOCATION:Reading Public Library\, 64 Middlesex Avenue\, Reading\, MA\, 01867\, United States
ATTACH;FMTTYPE=image/jpeg:https://thereadingpost.com/wp-content/uploads/2024/06/Les-Sampou-and-the-Dirty-Martinis.jpeg
END:VEVENT
BEGIN:VEVENT
DTSTART;TZID=America/New_York:20240529T190000
DTEND;TZID=America/New_York:20240529T203000
DTSTAMP:20260424T155737
CREATED:20240516T172934Z
LAST-MODIFIED:20240516T172934Z
UID:10000050-1717009200-1717014600@thereadingpost.com
SUMMARY:Authors Stephen Puleo comes to the Reading Public Library to discuss his new book\, The Great Abolitionist
DESCRIPTION:
URL:https://thereadingpost.com/event/authors-stephen-puleo-comes-to-the-reading-public-library-to-discuss-his-new-book-the-great-abolitionist/
LOCATION:Reading Public Library\, 64 Middlesex Avenue\, Reading\, MA\, 01867\, United States
ATTACH;FMTTYPE=image/jpeg:https://thereadingpost.com/wp-content/uploads/2024/05/‎great-abolitionist.‎001-edited.jpeg
END:VEVENT
BEGIN:VEVENT
DTSTART;TZID=America/New_York:20240529T190000
DTEND;TZID=America/New_York:20240529T203000
DTSTAMP:20260424T155737
CREATED:20240426T134232Z
LAST-MODIFIED:20240426T134414Z
UID:10000034-1717009200-1717014600@thereadingpost.com
SUMMARY:RPL: Meet Author Stephen Puleo
DESCRIPTION:
URL:https://thereadingpost.com/event/rpl-stephen-puleo/
LOCATION:Reading Public Library\, 64 Middlesex Avenue\, Reading\, MA\, 01867\, United States
END:VEVENT
BEGIN:VEVENT
DTSTART;TZID=America/New_York:20240511T120000
DTEND;TZID=America/New_York:20240511T120000
DTSTAMP:20260424T155737
CREATED:20240507T155824Z
LAST-MODIFIED:20240507T155853Z
UID:10000041-1715428800-1715428800@thereadingpost.com
SUMMARY:Reading Public Library’s Going to the Dogs at Our Animal Extravaganza
DESCRIPTION:
URL:https://thereadingpost.com/event/rpl-animal-extravaganza/
LOCATION:Reading Public Library\, 64 Middlesex Avenue\, Reading\, MA\, 01867\, United States
ATTACH;FMTTYPE=image/png:https://thereadingpost.com/wp-content/uploads/2024/05/RPL-Animal-Extravaganza-e1715008780373.png
END:VEVENT
BEGIN:VEVENT
DTSTART;TZID=America/New_York:20240510T101500
DTEND;TZID=America/New_York:20240510T111500
DTSTAMP:20260424T155737
CREATED:20240508T131250Z
LAST-MODIFIED:20240508T131250Z
UID:10000043-1715336100-1715339700@thereadingpost.com
SUMMARY:Rep. Jones Holding District Office Hours
DESCRIPTION:
URL:https://thereadingpost.com/event/rep-jones-holding-district-office-hours/
LOCATION:Reading Public Library\, 64 Middlesex Avenue\, Reading\, MA\, 01867\, United States
ATTACH;FMTTYPE=image/jpeg:https://thereadingpost.com/wp-content/uploads/2022/09/thumbnail_Brad-Jones-_IMG_7713.jpg
END:VEVENT
BEGIN:VEVENT
DTSTART;TZID=America/New_York:20240502T180000
DTEND;TZID=America/New_York:20240502T180000
DTSTAMP:20260424T155737
CREATED:20240426T133845Z
LAST-MODIFIED:20240426T133941Z
UID:10000033-1714672800-1714672800@thereadingpost.com
SUMMARY:RPL: Meet Author Jarrett J. Krosoczka
DESCRIPTION:
URL:https://thereadingpost.com/event/rpl-jarrett-j-krosoczka/
LOCATION:Reading Public Library\, 64 Middlesex Avenue\, Reading\, MA\, 01867\, United States
ATTACH;FMTTYPE=image/jpeg:https://thereadingpost.com/wp-content/uploads/2024/04/TMM-Author-Jarrett-J.-Krosoczka.jpg
END:VEVENT
BEGIN:VEVENT
DTSTART;TZID=America/New_York:20240425T190000
DTEND;TZID=America/New_York:20240425T190000
DTSTAMP:20260424T155737
CREATED:20240416T184545Z
LAST-MODIFIED:20240416T184609Z
UID:10000031-1714071600-1714071600@thereadingpost.com
SUMMARY:RPL: Artificial Intelligence at Work Today and In History
DESCRIPTION:
URL:https://thereadingpost.com/event/rpl-artificial-intelligence/
LOCATION:Reading Public Library\, 64 Middlesex Avenue\, Reading\, MA\, 01867\, United States
ATTACH;FMTTYPE=image/png:https://thereadingpost.com/wp-content/uploads/2021/04/RPL-Spring-Update-e1650490224317.png
END:VEVENT
BEGIN:VEVENT
DTSTART;TZID=America/New_York:20240417T180000
DTEND;TZID=America/New_York:20240417T180000
DTSTAMP:20260424T155737
CREATED:20240409T170343Z
LAST-MODIFIED:20240409T170429Z
UID:10000025-1713376800-1713376800@thereadingpost.com
SUMMARY:Disability Rights Movement and the ADA
DESCRIPTION:
URL:https://thereadingpost.com/event/disability-rights-ada/
LOCATION:Reading Public Library\, 64 Middlesex Avenue\, Reading\, MA\, 01867\, United States
ATTACH;FMTTYPE=image/jpeg:https://thereadingpost.com/wp-content/uploads/2024/04/‎Aymon-Langlois.‎001.jpeg
END:VEVENT
BEGIN:VEVENT
DTSTART;TZID=America/New_York:20240412T101500
DTEND;TZID=America/New_York:20240412T111500
DTSTAMP:20260424T155737
CREATED:20240403T190154Z
LAST-MODIFIED:20240403T190218Z
UID:10000018-1712916900-1712920500@thereadingpost.com
SUMMARY:Rep. Jones Office Hours
DESCRIPTION:
URL:https://thereadingpost.com/event/rep-jones-office-hours/
LOCATION:Reading Public Library\, 64 Middlesex Avenue\, Reading\, MA\, 01867\, United States
ATTACH;FMTTYPE=image/jpeg:https://thereadingpost.com/wp-content/uploads/2022/09/thumbnail_Brad-Jones-_IMG_7713.jpg
END:VEVENT
END:VCALENDAR