BEGIN:VCALENDAR
VERSION:2.0
PRODID:-//The Reading Post - ECPv6.15.20//NONSGML v1.0//EN
CALSCALE:GREGORIAN
METHOD:PUBLISH
X-ORIGINAL-URL:https://thereadingpost.com
X-WR-CALDESC:Events for The Reading Post
REFRESH-INTERVAL;VALUE=DURATION:PT1H
X-Robots-Tag:noindex
X-PUBLISHED-TTL:PT1H
BEGIN:VTIMEZONE
TZID:America/New_York
BEGIN:DAYLIGHT
TZOFFSETFROM:-0500
TZOFFSETTO:-0400
TZNAME:EDT
DTSTART:20240310T070000
END:DAYLIGHT
BEGIN:STANDARD
TZOFFSETFROM:-0400
TZOFFSETTO:-0500
TZNAME:EST
DTSTART:20241103T060000
END:STANDARD
BEGIN:DAYLIGHT
TZOFFSETFROM:-0500
TZOFFSETTO:-0400
TZNAME:EDT
DTSTART:20250309T070000
END:DAYLIGHT
BEGIN:STANDARD
TZOFFSETFROM:-0400
TZOFFSETTO:-0500
TZNAME:EST
DTSTART:20251102T060000
END:STANDARD
BEGIN:DAYLIGHT
TZOFFSETFROM:-0500
TZOFFSETTO:-0400
TZNAME:EDT
DTSTART:20260308T070000
END:DAYLIGHT
BEGIN:STANDARD
TZOFFSETFROM:-0400
TZOFFSETTO:-0500
TZNAME:EST
DTSTART:20261101T060000
END:STANDARD
BEGIN:DAYLIGHT
TZOFFSETFROM:-0500
TZOFFSETTO:-0400
TZNAME:EDT
DTSTART:20270314T070000
END:DAYLIGHT
BEGIN:STANDARD
TZOFFSETFROM:-0400
TZOFFSETTO:-0500
TZNAME:EST
DTSTART:20271107T060000
END:STANDARD
END:VTIMEZONE
BEGIN:VEVENT
DTSTART;TZID=America/New_York:20260311T180000
DTEND;TZID=America/New_York:20260311T180000
DTSTAMP:20260424T110835
CREATED:20260304T194143Z
LAST-MODIFIED:20260304T194148Z
UID:10000376-1773252000-1773252000@thereadingpost.com
SUMMARY:An Intimate Bruichladdich Scotch Dinner Comes to Post 1917
DESCRIPTION:Post 1917 hosts a one-night-only five-course dinner pairing Bruichladdich Scotch whiskies with a curated steakhouse menu\nReading\, MA — Post 1917 Reading\, the modern family-run steakhouse\, invites guests to a one-night-only five-course Bruichladdich Scotch Dinner on Wednesday\, March 11 at 6:00 PM. \nThis guided culinary experience pairs exceptional Bruichladdich Scotch whiskies with a curated prix fixe menu\, beginning with a welcome cocktail and continuing with courses such as tempura-fried oysters\, steak tartar\, salmon roulade\, a smoked Kona-crusted ribeye\, and a classic banana split dessert. \nThe evening is $195 per guest (plus tax and gratuity). Seating is limited. \nReserve on OpenTable under Experiences or call 781-942-0001. Don’t miss this special night of great food and world-class Scotch.
URL:https://thereadingpost.com/event/an-intimate-bruichladdich-scotch-dinner-comes-to-post-1917/
LOCATION:Post 1917\, 136 Haven St\, Reading\, MA\, 01867\, United States
ATTACH;FMTTYPE=image/jpeg:https://thereadingpost.com/wp-content/uploads/2026/02/Bruichladdich-Scotch-Dinner-at-Post-1917-Reading.jpg
END:VEVENT
BEGIN:VEVENT
DTSTART;TZID=America/New_York:20250826T170000
DTEND;TZID=America/New_York:20250826T170000
DTSTAMP:20260424T110835
CREATED:20250819T165141Z
LAST-MODIFIED:20250819T165943Z
UID:10000285-1756227600-1756227600@thereadingpost.com
SUMMARY:Post 1917 Hosts Espresso Martini Competition Night
DESCRIPTION:Spice Up The Dog Days of Summer in Reading with a Night of Espresso Martini Magic!\nReading\, MA — Post 1917\, Reading’s modern steakhouse\, known for blending city sophistication with local charm\, invites guests to beat the dog days of summer with a spirited evening of espresso martini creativity. On Tuesday\, August 26\, at 5:00 PM\, the restaurant will host an Espresso Martini Competition\, showcasing bartenders as they shake\, stir\, and craft their best versions of the beloved cocktail. \nAttendees will enjoy an evening of coffee\, cocktails\, and friendly competition as a panel of judges crowns the Mr. Black Espresso Martini Champion. Guests will have the opportunity to sample each entry\, receive one complimentary Post 1917 signature cocktail\, and enjoy passed appetizers. To round out the evening\, all attendees will receive a 10% off coupon for dinner at Post 1917. \nAdding to the spirit of giving back\, a portion of the event proceeds will benefit a local charity. \nTickets are $45 per person and can be purchased here.
URL:https://thereadingpost.com/event/post-1917-hosts-espresso-martini-competition-night/
LOCATION:Post 1917\, 136 Haven St\, Reading\, MA\, 01867\, United States
ATTACH;FMTTYPE=image/jpeg:https://thereadingpost.com/wp-content/uploads/2025/08/Espresso-Martini-edited.jpg
END:VEVENT
BEGIN:VEVENT
DTSTART;VALUE=DATE:20250525
DTEND;VALUE=DATE:20250526
DTSTAMP:20260424T110835
CREATED:20250515T182544Z
LAST-MODIFIED:20250515T182544Z
UID:10000230-1748131200-1748217599@thereadingpost.com
SUMMARY:Celebrate National Wine Day in Greater Boston at Post 1917
DESCRIPTION:Raise a Glass to Exceptional Wines and Expertly Curated Pairings on Sunday\, May 25\nReading\, MA – With National Wine Day just around the corner on Sunday\, May 25\, wine enthusiasts in the Greater Boston area are invited to celebrate in style at Post 1917\, a modern steakhouse located in the historic Post Office Building in Reading. Offering a thoughtfully curated wine menu featuring global selections\, Post 1917 is the ideal destination to raise a glass and indulge in the art of wine appreciation. \nThe restaurant’s wine program is overseen by Wine Director Jennifer Wladkowski\, whose 20 years of industry experience and WSET II certification have positioned her as a trusted authority in the wine community. Jennifer’s passion for wine and expertise in flavor pairings shine through in each selection\, ensuring guests enjoy a memorable dining experience. From sparkling rosé to rich reds and crisp whites\, the diverse wine menu features premium labels such as Caymus Vineyards Cabernet Sauvignon\, Tenuta San Guido Guidalberto Super Tuscan\, and Whispering Angel Rosé. \nFor those looking to indulge in a special pour\, Post 1917’s Coravin offerings include rare and limited-edition wines served by the glass\, such as the 2022 Caymus Vineyards Cabernet Sauvignon and the 2022 Tenuta San Guido Guidalberto Super Tuscan.
URL:https://thereadingpost.com/event/celebrate-national-wine-day-in-greater-boston-at-post-1917-2/
LOCATION:Post 1917\, 136 Haven St\, Reading\, MA\, 01867\, United States
ATTACH;FMTTYPE=image/jpeg:https://thereadingpost.com/wp-content/uploads/2024/05/2024-0424-5dmk3.1-Post-1917-Steakhouse-kenangcm-JPG10-sRGB-5X3A0612.jpeg
END:VEVENT
BEGIN:VEVENT
DTSTART;VALUE=DATE:20250522
DTEND;VALUE=DATE:20250526
DTSTAMP:20260424T110835
CREATED:20250515T182711Z
LAST-MODIFIED:20250515T182711Z
UID:10000231-1747872000-1748217599@thereadingpost.com
SUMMARY:Post 1917 Celebrates Memorial Day with Weekend-Long ‘Deck Opening Party’ Featuring Live Music\, Delicious Food\, and New Cocktail Menu
DESCRIPTION:Post 1917 is thrilled to announce a Memorial Day weekend celebration with the grand opening of The Deck at Post 1917\, the restaurant’s inviting outdoor space that comfortably accommodates 50 guests and features Reading’s only outdoor bar. The festivities will run from Thursday\, May 22\, through Sunday\, May 25\, offering live music\, delectable food\, and a new summer cocktail menu. \nLocated at the historic Post Office Building at 136 Haven Street\, Post 1917 brings together the charm of Reading’s storied past with a modern\, city-inspired vibe. Guests can enjoy live music performances each evening throughout the weekend while savoring signature dishes and refreshing cocktails under the open sky. \nThe entertainment lineup includes the Haverty Brothers kicking off the celebration on Thursday from 5:00 p.m. to 8:00 p.m.\, followed by Reading’s own Jami Giordano on Friday from 5:00 p.m. to 8:00 p.m. On Saturday\, Chad LaMarsh will take the stage from 5:00 p.m. to 8:00 p.m.\, and the weekend concludes with Eric Grava Jr. performing on Sunday from 2:00 p.m. to 5:00 p.m. \nFor more information about the Memorial Day Weekend Deck Opening Party\, visit www.post1917.com\, follow Post 1917 on Facebook and Instagram\, or call (617) 970-8566.
URL:https://thereadingpost.com/event/post-1917-celebrates-memorial-day-with-weekend-long-deck-opening-party-featuring-live-music-delicious-food-and-new-cocktail-menu/
LOCATION:Post 1917\, 136 Haven St\, Reading\, MA\, 01867\, United States
ATTACH;FMTTYPE=image/png:https://thereadingpost.com/wp-content/uploads/2025/05/post1917.png
END:VEVENT
BEGIN:VEVENT
DTSTART;VALUE=DATE:20250513
DTEND;VALUE=DATE:20250514
DTSTAMP:20260424T110835
CREATED:20250513T231415Z
LAST-MODIFIED:20250513T231415Z
UID:10000228-1747094400-1747180799@thereadingpost.com
SUMMARY:Celebrate National Wine Day in Greater Boston at Post 1917
DESCRIPTION:Raise a Glass to Exceptional Wines and Expertly Curated Pairings on Sunday\, May 25\nReading\, MA – With National Wine Day just around the corner on Sunday\, May 25\, wine enthusiasts in the Greater Boston area are invited to celebrate in style at Post 1917\, a modern steakhouse located in the historic Post Office Building in Reading. Offering a thoughtfully curated wine menu featuring global selections\, Post 1917 is the ideal destination to raise a glass and indulge in the art of wine appreciation. \nThe restaurant’s wine program is overseen by Wine Director Jennifer Wladkowski\, whose 20 years of industry experience and WSET II certification have positioned her as a trusted authority in the wine community. Jennifer’s passion for wine and expertise in flavor pairings shine through in each selection\, ensuring guests enjoy a memorable dining experience. From sparkling rosé to rich reds and crisp whites\, the diverse wine menu features premium labels such as Caymus Vineyards Cabernet Sauvignon\, Tenuta San Guido Guidalberto Super Tuscan\, and Whispering Angel Rosé. \nFor those looking to indulge in a special pour\, Post 1917’s Coravin offerings include rare and limited-edition wines served by the glass\, such as the 2022 Caymus Vineyards Cabernet Sauvignon and the 2022 Tenuta San Guido Guidalberto Super Tuscan. \nPost 1917 Wine Menu \nSparkling & Rosé\nMoët & Chandon\, Champagne NV | Champagne\, FR | $22\nCasa Canevel\, Prosecco NV | Prosecco DOC\, IT | $14\nUne Femme “The Callie” Sparkling Rosé | California | $15\nFrog’s Leap “La Grenouille Rouganté” Rosé\, 2023 | Rutherford\, CA | $16\nUltimate Provence Rosé\, 2024 | Côtes de Provence\, FR | $17\nWhispering Angel Rosé\, 2023 | Côtes de Provence\, FR | $15 \nWhites\nAlverdi\, Pinot Grigio\, 2023 | Delle Venezia\, Veneto\, IT | $14\nChalk Hill\, Chardonnay\, 2023 | Russian River Valley\, Sonoma\, CA | $14\nCakebread Cellars\, Chardonnay\, 2023 | Napa Valley\, CA | $22\nHenri Perrusset\, Chardonnay\, 2023 | Mâcon-Villages\, FR | $16\nKen Forrester Vineyards\, Old Vine Reserve Chenin Blanc\, 2023 | Stellenbosch\, SA | $14\nTerras Guada “O Rosal”\, Albariño 2023 | Rias Baixas\, SP | $14\nDomaine La Forêt\, Sancerre\, 2023 | Sancerre\, FR | $21\nDrylands\, Sauvignon Blanc\, 2023 | Marlborough\, NZ | $15\nPoet’s Leap by Longshadows Vintners\, Riesling\, 2022 | Columbia Valley\, WA | $16 \nReds\nCloudline Cellars\, Pinot Noir\, 2023 | Willamette Valley\, OR | $15\nDiora Wines “La Petite Grace”\, Pinot Noir 2019 | Monterey\, CA | $16\nJean-Claude Boisset\, Pinot Noir\, 2022 | Burgundy\, FR | $17\nKermit Lynch\, GSM Blend\, 2023 | Côtes du Rhône Villages\, Rhône Valley\, FR | $14\nUmani Ronchi\, Montepulciano\, 2023 | Abruzzo\, IT | $15\nThe Prisoner\, Red Blend\, 2023 | Napa Valley\, CA | $22\nChâteau Haut-Barrail\, Bordeaux Blend\, 2020 | Medoc\, FR | $17\nForte Masso\, Nebbiolo\, 2023 | Langhe\, Piedmont\, IT | $16\nAlta Vista Wines\, Estate Malbec\, 2019 | Mendoza\, AR | $15\nDecoy\, Cabernet Sauvignon\, 2022 | California | $15\nChâteau Beuana Vista\, Cabernet Sauvignon\, 2021 | Napa Valley\, CA | $22\nCastello Banfi “Belnero”\, Super Tuscan\, 2021 | Tuscany\, IT | $18 \nCoravin Offerings (5oz)\nCaymus Vineyards\, Cabernet Sauvignon\, 2022 | Napa Valley\, CA | $52\nGroth\, Cabernet Sauvignon\, 2021 | Oakville\, Napa Valley\, CA | $45\nTenuta San Guido Guidalberto\, Super Tuscan\, 2022 | Tuscany\, IT | $65
URL:https://thereadingpost.com/event/celebrate-national-wine-day-in-greater-boston-at-post-1917/
LOCATION:Post 1917\, 136 Haven St\, Reading\, MA\, 01867\, United States
ATTACH;FMTTYPE=image/jpeg:https://thereadingpost.com/wp-content/uploads/2024/05/2024-0424-5dmk3.1-Post-1917-Steakhouse-kenangcm-JPG10-sRGB-5X3A0612.jpeg
END:VEVENT
END:VCALENDAR