BEGIN:VCALENDAR
VERSION:2.0
PRODID:-//The Reading Post - ECPv6.15.20//NONSGML v1.0//EN
CALSCALE:GREGORIAN
METHOD:PUBLISH
X-WR-CALNAME:The Reading Post
X-ORIGINAL-URL:https://thereadingpost.com
X-WR-CALDESC:Events for The Reading Post
REFRESH-INTERVAL;VALUE=DURATION:PT1H
X-Robots-Tag:noindex
X-PUBLISHED-TTL:PT1H
BEGIN:VTIMEZONE
TZID:America/New_York
BEGIN:DAYLIGHT
TZOFFSETFROM:-0500
TZOFFSETTO:-0400
TZNAME:EDT
DTSTART:20230312T070000
END:DAYLIGHT
BEGIN:STANDARD
TZOFFSETFROM:-0400
TZOFFSETTO:-0500
TZNAME:EST
DTSTART:20231105T060000
END:STANDARD
BEGIN:DAYLIGHT
TZOFFSETFROM:-0500
TZOFFSETTO:-0400
TZNAME:EDT
DTSTART:20240310T070000
END:DAYLIGHT
BEGIN:STANDARD
TZOFFSETFROM:-0400
TZOFFSETTO:-0500
TZNAME:EST
DTSTART:20241103T060000
END:STANDARD
BEGIN:DAYLIGHT
TZOFFSETFROM:-0500
TZOFFSETTO:-0400
TZNAME:EDT
DTSTART:20250309T070000
END:DAYLIGHT
BEGIN:STANDARD
TZOFFSETFROM:-0400
TZOFFSETTO:-0500
TZNAME:EST
DTSTART:20251102T060000
END:STANDARD
BEGIN:DAYLIGHT
TZOFFSETFROM:-0500
TZOFFSETTO:-0400
TZNAME:EDT
DTSTART:20260308T070000
END:DAYLIGHT
BEGIN:STANDARD
TZOFFSETFROM:-0400
TZOFFSETTO:-0500
TZNAME:EST
DTSTART:20261101T060000
END:STANDARD
END:VTIMEZONE
BEGIN:VEVENT
DTSTART;TZID=America/New_York:20250707T133000
DTEND;TZID=America/New_York:20250707T143000
DTSTAMP:20260424T172828
CREATED:20250630T152500Z
LAST-MODIFIED:20250630T152500Z
UID:10000256-1751895000-1751898600@thereadingpost.com
SUMMARY:Senator Jason Lewis July Office Hours in Reading
DESCRIPTION:State Senator Jason Lewis will be holding Office Hours in Reading on Monday\, July 7\, 2025\, from 1:30-2:30 p.m. at the Pleasant Street Center (49 Pleasant St). \nAny Reading resident is welcome to attend Office Hours\, with no appointment necessary\, to meet with the Senator and discuss any constituent issues or legislative feedback. \nSenator Lewis will also be holding Office Hours the same day in Winchester from 10:30-11:30 a.m. at the Winchester Public Library (80 Washington St)\, and in Stoneham from 12-1 p.m. at the Stoneham Senior Center (136 Elm St). \nAnother option for residents who would like to meet with Senator Lewis is to attend virtual Office Hours\, which will be held on Tuesday\, July 22\, 2025\, from 6-7 p.m. on Zoom. \nFor further information or any questions\, visit SenatorJasonLewis.com or contact his office at (617) 722-1206 or Jason.Lewis@masenate.gov.
URL:https://thereadingpost.com/event/senator-jason-lewis-july-office-hours-in-reading/
LOCATION:Pleasant Street Center\, 49 Pleasant St\, Reading\, MA\, 01867\, United States
END:VEVENT
BEGIN:VEVENT
DTSTART;TZID=America/New_York:20250613T101500
DTEND;TZID=America/New_York:20250613T111500
DTSTAMP:20260424T172828
CREATED:20250601T173910Z
LAST-MODIFIED:20250601T173951Z
UID:10000242-1749809700-1749813300@thereadingpost.com
SUMMARY:Representative Jones Holding District Office Hours
DESCRIPTION:June 13\, At Reading’s Pleasant Street Center\n\n\n\nBOSTON – House Minority Leader Bradley H. Jones\, Jr. (R-North Reading) will be holding his monthly district office hours in Reading on Friday\, June 13 from 10:15-11:15 a.m. at the Pleasant Street Center\, located at 49 Pleasant Street. \nDuring office hours\, Representative Jones or a member of his staff will be available at the center to meet with constituents on a first-come\, first-served basis. No appointment is necessary. \n“I encourage Reading residents to stop by the Pleasant Street Center during office hours to discuss any issues of concern they may have\, including questions about legislation and accessing government services\,” said Representative Jones. “We are always happy to assist in any way we can and to be a resource to the community.” \nConstituents who are unable to attend local office hours can schedule an appointment to meet with Representative Jones at a more convenient time by calling (617) 722-2100 or e-mailing his Director of Local Affairs and Scheduling\, Sara Doran\, at Sara.Doran@mahouse.gov. Representative Jones can be reached at Bradley.Jones@mahouse.gov. \nReading office hours take place on the second Friday of every month at the Pleasant Street Center.
URL:https://thereadingpost.com/event/representative-jones-holding-district-office-hours-5/
LOCATION:Pleasant Street Center\, 49 Pleasant St\, Reading\, MA\, 01867\, United States
ATTACH;FMTTYPE=image/jpeg:https://thereadingpost.com/wp-content/uploads/2022/09/thumbnail_Brad-Jones-_IMG_7713.jpg
END:VEVENT
BEGIN:VEVENT
DTSTART;TZID=America/New_York:20250512T183000
DTEND;TZID=America/New_York:20250512T203000
DTSTAMP:20260424T172828
CREATED:20250505T171458Z
LAST-MODIFIED:20250505T171458Z
UID:10000222-1747074600-1747081800@thereadingpost.com
SUMMARY:Reading Cultural Council Hosts Grantee Reception
DESCRIPTION:Celebrate Local Arts and Culture – May 12\, 2025\nReading\, MA – The Reading Cultural Council is pleased to announce its annual Grantee Reception\, celebrating the recipients of the 2024–2025 grant cycle. The event will take place on Monday\, May 12\, 2025\, from 6:30 PM to 8:30 PM at the Pleasant Street Center. \nThis special evening invites the community to meet with the talented local individuals and organizations who received funding from the Reading Cultural Council over the past year. Guests will enjoy a slide presentation highlighting the wide range of artistic and cultural projects made possible through these grants. \nThe reception will showcase the vibrant creativity and community spirit thriving in Reading thanks to this vital local funding. \nThe event is free and open to the public. Light refreshments will be served. \nFor more information\, visit: https://linktr.ee/readingmasscc \nJoin us in celebrating our grantees and the power of arts and culture in Reading!
URL:https://thereadingpost.com/event/reading-cultural-council-hosts-grantee-reception/
LOCATION:Pleasant Street Center\, 49 Pleasant St\, Reading\, MA\, 01867\, United States
ATTACH;FMTTYPE=image/jpeg:https://thereadingpost.com/wp-content/uploads/2025/05/grantee-reception.jpg
END:VEVENT
BEGIN:VEVENT
DTSTART;TZID=America/New_York:20250509T101500
DTEND;TZID=America/New_York:20250509T113000
DTSTAMP:20260424T172828
CREATED:20250428T183904Z
LAST-MODIFIED:20250428T183904Z
UID:10000219-1746785700-1746790200@thereadingpost.com
SUMMARY:Representative Jones to Hold District Office Hours
DESCRIPTION:Residents invited to meet with Representative Jones or his staff at Pleasant Street Center to discuss legislative issues and access services\nBOSTON – House Minority Leader Bradley H. Jones\, Jr. (R-North Reading) will be holding his monthly district office hours in Reading on Friday\, May 9 from 10:15-11:15 a.m. at the Pleasant Street Center\, located at 49 Pleasant Street. \nDuring office hours\, Representative Jones or a member of his staff will be available at the center to meet with constituents on a first-come\, first-served basis. No appointment is necessary. \n“I encourage Reading residents to stop by the Pleasant Street Center during office hours to discuss any issues of concern they may have\, including questions about legislation and accessing government services\,” said Representative Jones. “We are always happy to assist in any way we can and to be a resource to the community.” \nConstituents who are unable to attend local office hours can schedule an appointment to meet with Representative Jones at a more convenient time by calling (617) 722-2100 or e-mailing his Director of Local Affairs and Scheduling\, Sara Doran\, atSara.Doran@mahouse.gov. Representative Jones can be reached at Bradley.Jones@mahouse.gov. \nReading office hours take place on the second Friday of every month at the Pleasant Street Center.
URL:https://thereadingpost.com/event/representative-jones-to-hold-district-office-hours/
LOCATION:Pleasant Street Center\, 49 Pleasant St\, Reading\, MA\, 01867\, United States
ATTACH;FMTTYPE=image/jpeg:https://thereadingpost.com/wp-content/uploads/2022/09/thumbnail_Brad-Jones-_IMG_7713.jpg
END:VEVENT
BEGIN:VEVENT
DTSTART;TZID=America/New_York:20250411T101500
DTEND;TZID=America/New_York:20250411T111500
DTSTAMP:20260424T172828
CREATED:20250401T174009Z
LAST-MODIFIED:20250401T184512Z
UID:10000207-1744366500-1744370100@thereadingpost.com
SUMMARY:Representative Jones Holding District Office Hours at Reading’s Pleasant Street Center
DESCRIPTION:BOSTON – House Minority Leader Bradley H. Jones\, Jr. (R-North Reading) will be holding his monthly district office hours in Reading on Friday\, April 11 from 10:15-11:15 a.m. at the Pleasant Street Center\, located at 49 Pleasant Street. \nDuring office hours\, Representative Jones or a member of his staff will be available at the center to meet with constituents on a first-come\, first-served basis. No appointment is necessary. \n“I encourage Reading residents to stop by the Pleasant Street Center during office hours to discuss any issues of concern they may have\, including questions about legislation and accessing government services\,” said Representative Jones. “We are always happy to assist in any way we can and to be a resource to the community.” \nConstituents who are unable to attend local office hours can schedule an appointment to meet with Representative Jones at a more convenient time by calling (617) 722-2100 or e-mailing his Director of Local Affairs and Scheduling\, Sara Doran\, at Sara.Doran@mahouse.gov. Representative Jones can be reached at Bradley.Jones@mahouse.gov. \nReading office hours take place on the second Friday of every month at the Pleasant Street Center.
URL:https://thereadingpost.com/event/representative-jones-holding-district-office-hours-at-readings-pleasant-street-center/
LOCATION:Pleasant Street Center\, 49 Pleasant St\, Reading\, MA\, 01867\, United States
ATTACH;FMTTYPE=image/jpeg:https://thereadingpost.com/wp-content/uploads/2022/09/thumbnail_Brad-Jones-_IMG_7713.jpg
END:VEVENT
BEGIN:VEVENT
DTSTART;TZID=America/New_York:20250214T101500
DTEND;TZID=America/New_York:20250214T111500
DTSTAMP:20260424T172828
CREATED:20250203T205029Z
LAST-MODIFIED:20250203T205035Z
UID:10000184-1739528100-1739531700@thereadingpost.com
SUMMARY:Representative Jones Holding District Office Hours
DESCRIPTION:February 14 at Reading’s Pleasant Street Center\nBOSTON – House Minority Leader Bradley H. Jones\, Jr. (R-North Reading) will be holding his monthly district office hours in Reading on Friday\, February 14 from 10:15-11:15 a.m. at the Pleasant Street Center\, located at 49 Pleasant Street. \nDuring office hours\, Representative Jones or a member of his staff will be available at the center to meet with constituents on a first-come\, first-served basis. No appointment is necessary. \n“I encourage Reading residents to stop by the Pleasant Street Center during office hours to discuss any issues of concern they may have\, including questions about legislation and accessing government services\,” said Representative Jones. “We are always happy to assist in any way we can and to be a resource to the community.” \nConstituents who are unable to attend local office hours can schedule an appointment to meet with Representative Jones at a more convenient time by calling (617) 722-2100 or e-mailing his Director of Local Affairs and Scheduling\, Sara Doran\, at Sara.Doran@mahouse.gov. Representative Jones can be reached at Bradley.Jones@mahouse.gov. \nReading office hours take place on the second Friday of every month at the Pleasant Street Center.
URL:https://thereadingpost.com/event/representative-jones-holding-district-office-hours-4/
LOCATION:Pleasant Street Center\, 49 Pleasant St\, Reading\, MA\, 01867\, United States
ATTACH;FMTTYPE=image/jpeg:https://thereadingpost.com/wp-content/uploads/2022/09/thumbnail_Brad-Jones-_IMG_7713.jpg
END:VEVENT
BEGIN:VEVENT
DTSTART;TZID=America/New_York:20250128T190000
DTEND;TZID=America/New_York:20250128T190000
DTSTAMP:20260424T172828
CREATED:20250116T181402Z
LAST-MODIFIED:20250116T181406Z
UID:10000180-1738090800-1738090800@thereadingpost.com
SUMMARY:Reading Center for Active Living January Public Forum
DESCRIPTION:If you missed the Reading Center for Active Living forum on December 17th\, you can view the recording from RCTV here: https://www.youtube.com/watch?v=GB2jH2JV1V8. The next public forum for the project will be held on Tuesday\, January 28\, at 7pm at the Pleasant Street Center. Refreshments will be served\, and it will also be aired on RCTV. \nDo you have feedback or thoughts to share on the project\, or want to learn more? Visit the website at readingma.gov/recal or reach out to ReCAL@readingma.gov.
URL:https://thereadingpost.com/event/reading-center-for-active-living-january-public-forum/
LOCATION:Pleasant Street Center\, 49 Pleasant St\, Reading\, MA\, 01867\, United States
ATTACH;FMTTYPE=image/jpeg:https://thereadingpost.com/wp-content/uploads/2025/01/Reading-Center-for-Active-Living-January-Public-Forum.jpg
END:VEVENT
BEGIN:VEVENT
DTSTART;TZID=America/New_York:20250110T101500
DTEND;TZID=America/New_York:20250110T111500
DTSTAMP:20260424T172828
CREATED:20250106T103115Z
LAST-MODIFIED:20250106T103115Z
UID:10000168-1736504100-1736507700@thereadingpost.com
SUMMARY:Rep. Jones District Office Hours
DESCRIPTION:During office hours\, Representative Jones or a member of his staff will be available at the center to meet with constituents on a first-come\, first-served basis. No appointment is necessary. \n“As we celebrate the start of the new year\, my staff and I are looking forward to continuing to be a resource to the community and helping local constituents in need of assistance\,” said Representative Jones. “I encourage Reading residents to stop by the Pleasant Street Center during office hours to discuss any issues of concern they may have\, including questions about pending legislation or to seek help accessing government services.”
URL:https://thereadingpost.com/event/rep-jones-district-office-hours/
LOCATION:Pleasant Street Center\, 49 Pleasant St\, Reading\, MA\, 01867\, United States
ATTACH;FMTTYPE=image/jpeg:https://thereadingpost.com/wp-content/uploads/2022/09/thumbnail_Brad-Jones-_IMG_7713.jpg
END:VEVENT
BEGIN:VEVENT
DTSTART;TZID=America/New_York:20250106T103000
DTEND;TZID=America/New_York:20250106T113000
DTSTAMP:20260424T172828
CREATED:20250106T103443Z
LAST-MODIFIED:20250106T103443Z
UID:10000169-1736159400-1736163000@thereadingpost.com
SUMMARY:Senator Jason Lewis January Office Hours in Reading
DESCRIPTION:State Senator Jason Lewis will be holding Office Hours in Reading on Monday\, January 6\, 2025\, from 1:30-2:30 p.m. at the Pleasant Street Center (49 Pleasant St). \nAny Reading resident is welcome to attend Office Hours\, with no appointment necessary\, to meet with the Senator and discuss any constituent issues or legislative feedback. \nSenator Lewis will also be holding Office Hours the same day in Winchester from 10:30-11:30 a.m. at the Winchester Public Library (80 Washington St)\, and in Stoneham from 12-1 p.m. at the Stoneham Senior Center (136 Elm St).
URL:https://thereadingpost.com/event/senator-jason-lewis-january-office-hours-in-reading/
LOCATION:Pleasant Street Center\, 49 Pleasant St\, Reading\, MA\, 01867\, United States
END:VEVENT
BEGIN:VEVENT
DTSTART;TZID=America/New_York:20241213T101500
DTEND;TZID=America/New_York:20241213T111500
DTSTAMP:20260424T172828
CREATED:20241202T195126Z
LAST-MODIFIED:20241202T195126Z
UID:10000159-1734084900-1734088500@thereadingpost.com
SUMMARY:Representative Jones Holding District Office Hours
DESCRIPTION:House Minority Leader Bradley H. Jones\, Jr. (R-North Reading) will be holding his monthly district office hours in Reading on Friday\, December 13\, from 10:15-11:15 a.m. at the Pleasant Street Center\, located at 49 Pleasant Street. \nDuring office hours\, Representative Jones or a member of his staff will be available at the center to meet with constituents on a first-come\, first-served basis. No appointment is necessary. \n“I encourage Reading residents to stop by the Pleasant Street Center during office hours to discuss any issues of concern they may have\, including questions about legislation and accessing government services\,” said Representative Jones. “We are always happy to assist in any way we can and to be a resource to the community.” \nConstituents who are unable to attend local office hours can schedule an appointment to meet with Representative Jones at a more convenient time by calling (617) 722-2100 or e-mailing his Director of Local Affairs and Scheduling\, Sara Doran\, atSara.Doran@mahouse.gov. Representative Jones can be reached at Bradley.Jones@mahouse.gov. \nReading office hours take place on the second Friday of every month at the Pleasant Street Center.
URL:https://thereadingpost.com/event/representative-jones-holding-district-office-hours-3/
LOCATION:Pleasant Street Center\, 49 Pleasant St\, Reading\, MA\, 01867\, United States
ATTACH;FMTTYPE=image/jpeg:https://thereadingpost.com/wp-content/uploads/2022/09/thumbnail_Brad-Jones-_IMG_7713.jpg
END:VEVENT
BEGIN:VEVENT
DTSTART;TZID=America/New_York:20241211T190000
DTEND;TZID=America/New_York:20241211T190000
DTSTAMP:20260424T172828
CREATED:20241126T232413Z
LAST-MODIFIED:20241126T232422Z
UID:10000158-1733943600-1733943600@thereadingpost.com
SUMMARY:Eastern Gateway Open House
DESCRIPTION:Help Town staff identify and address priorities in the town’s industrial zoning district along Walkers Brook Drive. What would you like to see here in the future? \nProvide input on:\n– Connectivity\n– Scale\n– Use(s)\n– Atmosphere\n– And more! \nWednesday\, Dec. 11\, 2024\n7:00 PM at Pleasant Street Center\n49 Pleasant Street \nFor more information:\nEmail: planning@readingma.gov\nVisit: readingma.gov/egpp
URL:https://thereadingpost.com/event/eastern-gateway-open-house/
LOCATION:Pleasant Street Center\, 49 Pleasant St\, Reading\, MA\, 01867\, United States
ATTACH;FMTTYPE=image/jpeg:https://thereadingpost.com/wp-content/uploads/2024/11/Eastern-Gateway-Open-House.jpg
END:VEVENT
BEGIN:VEVENT
DTSTART;TZID=America/New_York:20241108T101500
DTEND;TZID=America/New_York:20241108T111500
DTSTAMP:20260424T172828
CREATED:20241028T213612Z
LAST-MODIFIED:20241028T213612Z
UID:10000134-1731060900-1731064500@thereadingpost.com
SUMMARY:Representative Jones Holding District Office Hours
DESCRIPTION:House Minority Leader Bradley H. Jones\, Jr. (R-North Reading) will be holding his monthly district office hours in Reading on Friday\, November 8 from 10:15-11:15 a.m. at the Pleasant Street Center\, located at 49 Pleasant Street. \nDuring office hours\, Representative Jones or a member of his staff will be available at the center to meet with constituents on a first-come\, first-served basis. No appointment is necessary. \n“I encourage Reading residents to stop by the Pleasant Street Center during office hours to discuss any issues of concern they may have\, including questions about legislation and accessing government services\,” said Representative Jones. “We are always happy to assist in any way we can and to be a resource to the community.” \nConstituents who are unable to attend local office hours can schedule an appointment to meet with Representative Jones at a more convenient time by calling (617) 722-2100 or e-mailing his Director of Local Affairs and Scheduling\, Sara Doran\, at Sara.Doran@mahouse.gov. Representative Jones can be reached at Bradley.Jones@mahouse.gov. \nReading office hours take place on the second Friday of every month at the Pleasant Street Center.
URL:https://thereadingpost.com/event/representative-jones-holding-district-office-hours-2/
LOCATION:Pleasant Street Center\, 49 Pleasant St\, Reading\, MA\, 01867\, United States
ATTACH;FMTTYPE=image/jpeg:https://thereadingpost.com/wp-content/uploads/2022/09/thumbnail_Brad-Jones-_IMG_7713.jpg
END:VEVENT
BEGIN:VEVENT
DTSTART;TZID=America/New_York:20241104T133000
DTEND;TZID=America/New_York:20241104T143000
DTSTAMP:20260424T172828
CREATED:20241030T174651Z
LAST-MODIFIED:20241030T174656Z
UID:10000136-1730727000-1730730600@thereadingpost.com
SUMMARY:Senator Jason Lewis Announces November Office Hours in Reading
DESCRIPTION:State Senator Jason Lewis will be holding Office Hours in Reading on Monday\, November 4\, from 1:30-2:30 p.m. at the Pleasant Street Center (49 Pleasant St). \nAny Reading resident is welcome to attend Office Hours\, with no appointment necessary\, to meet with the Senator and discuss any constituent issues or legislative feedback. \nSenator Lewis will also be holding Office Hours the same day in Winchester from 10:30-11:30 a.m. at the Winchester Public Library (80 Washington St)\, and in Stoneham from 12-1 p.m. at the Stoneham Senior Center (136 Elm St). \nAnother option for residents who would like to meet with Senator Lewis is to attend virtual Office Hours\, which will be held on Monday\, November 18\, 2024\, from 2-3 p.m. on Zoom. \nFor further information or any questions visit SenatorJasonLewis.com or contact his office at (617) 722-1206 or Jason.Lewis@masenate.gov.
URL:https://thereadingpost.com/event/senator-jason-lewis-announces-november-office-hours-in-reading/
LOCATION:Pleasant Street Center\, 49 Pleasant St\, Reading\, MA\, 01867\, United States
END:VEVENT
BEGIN:VEVENT
DTSTART;TZID=America/New_York:20241011T101500
DTEND;TZID=America/New_York:20241011T111500
DTSTAMP:20260424T172828
CREATED:20241003T190657Z
LAST-MODIFIED:20241003T190702Z
UID:10000096-1728641700-1728645300@thereadingpost.com
SUMMARY:Representative Jones Holding District Office Hours
DESCRIPTION:House Minority Leader Bradley H. Jones\, Jr. (R-North Reading) will be holding his monthly district office hours in Reading on Friday\, October 11\, 10:15-11:15 a.m. at the Pleasant Street Center\, located at 49 Pleasant Street. \nDuring office hours\, Representative Jones or a member of his staff will be available at the center to meet with constituents on a first-come\, first-served basis. No appointment is necessary.
URL:https://thereadingpost.com/event/representative-jones-holding-district-office-hours/
LOCATION:Pleasant Street Center\, 49 Pleasant St\, Reading\, MA\, 01867\, United States
ATTACH;FMTTYPE=image/jpeg:https://thereadingpost.com/wp-content/uploads/2022/09/thumbnail_Brad-Jones-_IMG_7713.jpg
END:VEVENT
BEGIN:VEVENT
DTSTART;TZID=America/New_York:20240626T100000
DTEND;TZID=America/New_York:20240626T110000
DTSTAMP:20260424T172828
CREATED:20240618T184908Z
LAST-MODIFIED:20240618T184908Z
UID:10000060-1719396000-1719399600@thereadingpost.com
SUMMARY:Pleasant Street Center - History of Feminism in Music by John Clark
DESCRIPTION:Pleasant Street Center – History of Feminism in Music by John Clark – Wednesday\, June 26th from 10:00am to 11:00am: Music historian\, John Clark will present on 100 Years of music from 1870 to 1970 that played a vital part in American women’s struggles for equal status and equal rights. You will heat songs by such widely diverse artists as Sophie Tucker\, Joan Baez\, Mimi Farina\, Aretha Franklin\, Peggy Lee and more. Please Call to sign up.
URL:https://thereadingpost.com/event/pleasant-street-center-history-of-feminism-in-music-by-john-clark/
LOCATION:Pleasant Street Center\, 49 Pleasant St\, Reading\, MA\, 01867\, United States
ATTACH;FMTTYPE=image/jpeg:https://thereadingpost.com/wp-content/uploads/2020/01/image004.jpg
END:VEVENT
BEGIN:VEVENT
DTSTART;TZID=America/New_York:20240626T100000
DTEND;TZID=America/New_York:20240626T103000
DTSTAMP:20260424T172828
CREATED:20240618T185116Z
LAST-MODIFIED:20240618T185116Z
UID:10000061-1719396000-1719397800@thereadingpost.com
SUMMARY:Pleasant Street Center - Fiber Arts - Fun with Flying Geese Technique
DESCRIPTION:Fiber Arts – Fun with Flying Geese Technique –  Wednesday\, June 26th from 10:00am to 11:30am: Join Laurie Thies from Mary Rose Quilts as demonstrates the Flying Geese Technique. Space is limited. Please call to sign up.
URL:https://thereadingpost.com/event/pleasant-street-center-fiber-arts-fun-with-flying-geese-technique/
LOCATION:Pleasant Street Center\, 49 Pleasant St\, Reading\, MA\, 01867\, United States
ATTACH;FMTTYPE=image/jpeg:https://thereadingpost.com/wp-content/uploads/2020/01/image004.jpg
END:VEVENT
BEGIN:VEVENT
DTSTART;TZID=America/New_York:20240515T100000
DTEND;TZID=America/New_York:20240515T120000
DTSTAMP:20260424T172828
CREATED:20240514T170749Z
LAST-MODIFIED:20240514T170749Z
UID:10000045-1715767200-1715774400@thereadingpost.com
SUMMARY:Pleasant Street Center Health Fair
DESCRIPTION:
URL:https://thereadingpost.com/event/pleasant-street-center-health-fair-2/
LOCATION:Pleasant Street Center\, 49 Pleasant St\, Reading\, MA\, 01867\, United States
ATTACH;FMTTYPE=image/jpeg:https://thereadingpost.com/wp-content/uploads/2016/07/HX0A1570.jpg
END:VEVENT
BEGIN:VEVENT
DTSTART;TZID=America/New_York:20240415T100000
DTEND;TZID=America/New_York:20240415T120000
DTSTAMP:20260424T172828
CREATED:20240414T231808Z
LAST-MODIFIED:20240414T231808Z
UID:10000028-1713175200-1713182400@thereadingpost.com
SUMMARY:Pleasant Street Center Health Fair
DESCRIPTION:
URL:https://thereadingpost.com/event/pleasant-street-center-health-fair/
LOCATION:Pleasant Street Center\, 49 Pleasant St\, Reading\, MA\, 01867\, United States
ATTACH;FMTTYPE=image/jpeg:https://thereadingpost.com/wp-content/uploads/2020/01/image004.jpg
END:VEVENT
END:VCALENDAR