BEGIN:VCALENDAR
VERSION:2.0
PRODID:-//The Reading Post - ECPv6.15.20//NONSGML v1.0//EN
CALSCALE:GREGORIAN
METHOD:PUBLISH
X-WR-CALNAME:The Reading Post
X-ORIGINAL-URL:https://thereadingpost.com
X-WR-CALDESC:Events for The Reading Post
REFRESH-INTERVAL;VALUE=DURATION:PT1H
X-Robots-Tag:noindex
X-PUBLISHED-TTL:PT1H
BEGIN:VTIMEZONE
TZID:America/New_York
BEGIN:DAYLIGHT
TZOFFSETFROM:-0500
TZOFFSETTO:-0400
TZNAME:EDT
DTSTART:20240310T070000
END:DAYLIGHT
BEGIN:STANDARD
TZOFFSETFROM:-0400
TZOFFSETTO:-0500
TZNAME:EST
DTSTART:20241103T060000
END:STANDARD
BEGIN:DAYLIGHT
TZOFFSETFROM:-0500
TZOFFSETTO:-0400
TZNAME:EDT
DTSTART:20250309T070000
END:DAYLIGHT
BEGIN:STANDARD
TZOFFSETFROM:-0400
TZOFFSETTO:-0500
TZNAME:EST
DTSTART:20251102T060000
END:STANDARD
BEGIN:DAYLIGHT
TZOFFSETFROM:-0500
TZOFFSETTO:-0400
TZNAME:EDT
DTSTART:20260308T070000
END:DAYLIGHT
BEGIN:STANDARD
TZOFFSETFROM:-0400
TZOFFSETTO:-0500
TZNAME:EST
DTSTART:20261101T060000
END:STANDARD
END:VTIMEZONE
BEGIN:VEVENT
DTSTART;TZID=America/New_York:20251221T153000
DTEND;TZID=America/New_York:20251221T153000
DTSTAMP:20260424T190146
CREATED:20251218T170048Z
LAST-MODIFIED:20251218T170053Z
UID:10000336-1766331000-1766331000@thereadingpost.com
SUMMARY:Community Chanukah Celebration at Jordan’s Furniture in Reading
DESCRIPTION:Chabad of Wakefield invites families to an afternoon of crafts\, magic\, festive treats\, and the lighting of a nine-foot LED menorah on Sunday\, December 21\, beginning at 3:00 PM on Walkers Brook Drive\nReading\, MA — Get ready for a fun\, family-friendly Chanukah celebration this Sunday\, December 21\, 2025\, at Jordan’s Furniture in Reading! \nChabad of Wakefield will be hosting a community Chanukah event beginning in the afternoon. Festivities kick off with activities for kids\, including children’s Chanukah crafts and face painting\, followed by the lighting of a large\, nine-foot LED menorah\, expected to be one of the highlights of the day. After the lighting\, a high-energy magic show will keep young guests entertained\, and the celebration wraps up with a chocolate gelt drop in Home Depot’s parking lot\, a crowd-favorite moment fun for the whole family. Festive foods\, drinks\, and treats will be available throughout the event. \nWhen: Sunday\, December 21\, 2025\nTime: Starts at 3:00 PM (activities and menorah lighting; exact schedule may vary)\nWhere: Jordan’s Furniture on Walkers Brook Drive
URL:https://thereadingpost.com/event/community-chanukah-celebration-at-jordans-furniture-in-reading/
LOCATION:Jordan’s Furniture\, 50 Walkers Brook Drive\, Reading\, MA\, 01867\, United States
ATTACH;FMTTYPE=image/jpeg:https://thereadingpost.com/wp-content/uploads/2025/12/Chanukah-Flyer.jpg
END:VEVENT
END:VCALENDAR