BEGIN:VCALENDAR
VERSION:2.0
PRODID:-//The Reading Post - ECPv6.15.20//NONSGML v1.0//EN
CALSCALE:GREGORIAN
METHOD:PUBLISH
X-WR-CALNAME:The Reading Post
X-ORIGINAL-URL:https://thereadingpost.com
X-WR-CALDESC:Events for The Reading Post
REFRESH-INTERVAL;VALUE=DURATION:PT1H
X-Robots-Tag:noindex
X-PUBLISHED-TTL:PT1H
BEGIN:VTIMEZONE
TZID:America/New_York
BEGIN:DAYLIGHT
TZOFFSETFROM:-0500
TZOFFSETTO:-0400
TZNAME:EDT
DTSTART:20230312T070000
END:DAYLIGHT
BEGIN:STANDARD
TZOFFSETFROM:-0400
TZOFFSETTO:-0500
TZNAME:EST
DTSTART:20231105T060000
END:STANDARD
BEGIN:DAYLIGHT
TZOFFSETFROM:-0500
TZOFFSETTO:-0400
TZNAME:EDT
DTSTART:20240310T070000
END:DAYLIGHT
BEGIN:STANDARD
TZOFFSETFROM:-0400
TZOFFSETTO:-0500
TZNAME:EST
DTSTART:20241103T060000
END:STANDARD
BEGIN:DAYLIGHT
TZOFFSETFROM:-0500
TZOFFSETTO:-0400
TZNAME:EDT
DTSTART:20250309T070000
END:DAYLIGHT
BEGIN:STANDARD
TZOFFSETFROM:-0400
TZOFFSETTO:-0500
TZNAME:EST
DTSTART:20251102T060000
END:STANDARD
END:VTIMEZONE
BEGIN:VEVENT
DTSTART;TZID=America/New_York:20241201T150000
DTEND;TZID=America/New_York:20241201T150000
DTSTAMP:20260424T143053
CREATED:20241122T171018Z
LAST-MODIFIED:20241122T171024Z
UID:10000156-1733065200-1733065200@thereadingpost.com
SUMMARY:“A Christmas Carol” at Creative Arts of Reading
DESCRIPTION:Creative Arts presents “A Christmas Carol” Creative Arts and the First Congregational Church of Reading’s 2nd annual co-production of “A Christmas Carol” by Charles Dickens will perform during FCCR’s Annual Cookies & Cocoa event taking place on the same day as the Reading Annual Tree Lighting event on the town common.  \nAudiences are invited to attend this FREE PERFORMANCE in the sanctuary at the FCCR\, which is stroller and wheelchair accessible. The performance is only 30 minutes long.  Join us at 25 Woburn Street in Reading. \nThe cast includes local Reading residents Ingrid\, Tay\, and Peter Rhoads\, Matthew Garlin\, Esme Moss\, and Ethan Dill.  \nRounding out the cast are: John Murtagh as Scrooge\, John Pease as Jacob Marley (and the Ghost of Christmas Yet to Be)\, Matthew Garlin as Bob Cratchit\, Steve Bermundo as Fred\, Eveline Putnam as The Ghost of Christmas Past\, Spencer O’Dowd as the Ghost of Christmas Present\, Tay Evans-Rhoads as Mrs. Cratchit. Sebastian Putnam as Peter Cratchit\, Esme Moss as Martha Cratchit\, Ingrid Rhoads as Belinda Cratchit\, Allison Ruddman-Putnam as Mrs. Fezziwig\, Christian Moll as Belle\, Spencer Moll as Young Scrooge\, Peter Rhoads as Old Joe\, Heather Rotundi as Mrs. Dilber\, Maya Concepción as Lilly\, Fred’s Wife\, and Ethan Dill as Tiny Tim. The production is directed by Andrew Rhodes. \n“A Christmas Carol” is free and open to the public. For more information\, you may contact the Creative Arts office at (781) 942-9600 or director@weteachcreativearts.org.
URL:https://thereadingpost.com/event/a-christmas-carol-at-creative-arts-of-reading/
LOCATION:First Congregational Church of Reading\, 25 Woburn Street\, Reading\, MA\, United States
ATTACH;FMTTYPE=image/jpeg:https://thereadingpost.com/wp-content/uploads/2024/11/ACC-Graphic.jpg
END:VEVENT
BEGIN:VEVENT
DTSTART;TZID=America/New_York:20240928T100000
DTEND;TZID=America/New_York:20240928T140000
DTSTAMP:20260424T143053
CREATED:20240920T191218Z
LAST-MODIFIED:20240920T191218Z
UID:10000082-1727517600-1727532000@thereadingpost.com
SUMMARY:The Olde Redding Faire
DESCRIPTION:Be a part of this Reading tradition since 1957! Join your neighbors at the annual fall faire\, eat great food\, shop\, bid and have fun! Food: Enjoy pulled pork sandwiches\, mac and cheese\, baked potatoes and toppings\, grilled cheese & tomato soup\, hot dogs\, fried dough\, popcorn\, and the Bake Table\, brimming with homemade treats.
URL:https://thereadingpost.com/event/the-olde-redding-faire/
LOCATION:First Congregational Church of Reading\, 25 Woburn Street\, Reading\, MA\, United States
END:VEVENT
END:VCALENDAR