BEGIN:VCALENDAR
VERSION:2.0
PRODID:-//The Reading Post - ECPv6.15.20//NONSGML v1.0//EN
CALSCALE:GREGORIAN
METHOD:PUBLISH
X-ORIGINAL-URL:https://thereadingpost.com
X-WR-CALDESC:Events for The Reading Post
REFRESH-INTERVAL;VALUE=DURATION:PT1H
X-Robots-Tag:noindex
X-PUBLISHED-TTL:PT1H
BEGIN:VTIMEZONE
TZID:America/New_York
BEGIN:DAYLIGHT
TZOFFSETFROM:-0500
TZOFFSETTO:-0400
TZNAME:EDT
DTSTART:20250309T070000
END:DAYLIGHT
BEGIN:STANDARD
TZOFFSETFROM:-0400
TZOFFSETTO:-0500
TZNAME:EST
DTSTART:20251102T060000
END:STANDARD
BEGIN:DAYLIGHT
TZOFFSETFROM:-0500
TZOFFSETTO:-0400
TZNAME:EDT
DTSTART:20260308T070000
END:DAYLIGHT
BEGIN:STANDARD
TZOFFSETFROM:-0400
TZOFFSETTO:-0500
TZNAME:EST
DTSTART:20261101T060000
END:STANDARD
BEGIN:DAYLIGHT
TZOFFSETFROM:-0500
TZOFFSETTO:-0400
TZNAME:EDT
DTSTART:20270314T070000
END:DAYLIGHT
BEGIN:STANDARD
TZOFFSETFROM:-0400
TZOFFSETTO:-0500
TZNAME:EST
DTSTART:20271107T060000
END:STANDARD
END:VTIMEZONE
BEGIN:VEVENT
DTSTART;TZID=America/New_York:20260501T193000
DTEND;TZID=America/New_York:20260501T210000
DTSTAMP:20260424T111029
CREATED:20260424T081435Z
LAST-MODIFIED:20260424T091806Z
UID:10000426-1777663800-1777669200@thereadingpost.com
SUMMARY:Reading Art Association Spring Show Returns with “Art in Bloom”
DESCRIPTION:May 1–2 exhibit features 90+ artists\, floral interpretations by Reading Garden Club\, and art for sale at Congregational Church in Reading\nReading\, MA — The Reading Art Association Spring Show returns this May with artwork of over 90 artist members representing surrounding towns and cities. The show will be held at the Congregational Church\, Woburn Street in Reading on May 1st from 7:30 – 9:30\, Saturday\, May 2nd from 10:00 – 3:00. Entrance to Guild Hall\, where the art show is held\, is the middle side door on Sanborn Street. \nOn Friday night\, there will be a reception with refreshments and an awards presentation at 8:30. \nThe Reading Garden Club has been invited to be part of the Spring Exhibit and will interpret paintings by RAA members using flowers and plants. \nA RAA artist has generously donated a painting that will be won by someone. The raffle tickets are $1.00. You do not need to be present on Saturday to win the drawing. \nOriginal works of art\, mini-art\, and unframed artwork will be on display and available for purchase during the weekend. \nThis promises to be a wonderful show and a great way to spend some time over the spring weekend. \nThe Reading Art Association was founded in 1958 to foster the arts in Reading\, Mass.  For more info about the association\, visit readingart.org.
URL:https://thereadingpost.com/event/reading-art-association-spring-show-returns-with-art-in-bloom/2026-05-01/
LOCATION:First Congregational Church of Reading\, 25 Woburn Street\, Reading\, MA\, United States
ATTACH;FMTTYPE=image/jpeg:https://thereadingpost.com/wp-content/uploads/2022/04/reading-art.jpeg
END:VEVENT
BEGIN:VEVENT
DTSTART;TZID=America/New_York:20260502T100000
DTEND;TZID=America/New_York:20260502T150000
DTSTAMP:20260424T111029
CREATED:20260424T081435Z
LAST-MODIFIED:20260424T091806Z
UID:10000434-1777716000-1777734000@thereadingpost.com
SUMMARY:Reading Art Association Spring Show Returns with “Art in Bloom”
DESCRIPTION:May 1–2 exhibit features 90+ artists\, floral interpretations by Reading Garden Club\, and art for sale at Congregational Church in Reading\nReading\, MA — The Reading Art Association Spring Show returns this May with artwork of over 90 artist members representing surrounding towns and cities. The show will be held at the Congregational Church\, Woburn Street in Reading on May 1st from 7:30 – 9:30\, Saturday\, May 2nd from 10:00 – 3:00. Entrance to Guild Hall\, where the art show is held\, is the middle side door on Sanborn Street. \nOn Friday night\, there will be a reception with refreshments and an awards presentation at 8:30. \nThe Reading Garden Club has been invited to be part of the Spring Exhibit and will interpret paintings by RAA members using flowers and plants. \nA RAA artist has generously donated a painting that will be won by someone. The raffle tickets are $1.00. You do not need to be present on Saturday to win the drawing. \nOriginal works of art\, mini-art\, and unframed artwork will be on display and available for purchase during the weekend. \nThis promises to be a wonderful show and a great way to spend some time over the spring weekend. \nThe Reading Art Association was founded in 1958 to foster the arts in Reading\, Mass.  For more info about the association\, visit readingart.org.
URL:https://thereadingpost.com/event/reading-art-association-spring-show-returns-with-art-in-bloom/2026-05-02/
LOCATION:First Congregational Church of Reading\, 25 Woburn Street\, Reading\, MA\, United States
ATTACH;FMTTYPE=image/jpeg:https://thereadingpost.com/wp-content/uploads/2022/04/reading-art.jpeg
END:VEVENT
END:VCALENDAR