BEGIN:VCALENDAR
VERSION:2.0
PRODID:-//The Reading Post - ECPv6.15.20//NONSGML v1.0//EN
CALSCALE:GREGORIAN
METHOD:PUBLISH
X-ORIGINAL-URL:https://thereadingpost.com
X-WR-CALDESC:Events for The Reading Post
REFRESH-INTERVAL;VALUE=DURATION:PT1H
X-Robots-Tag:noindex
X-PUBLISHED-TTL:PT1H
BEGIN:VTIMEZONE
TZID:America/New_York
BEGIN:DAYLIGHT
TZOFFSETFROM:-0500
TZOFFSETTO:-0400
TZNAME:EDT
DTSTART:20230312T070000
END:DAYLIGHT
BEGIN:STANDARD
TZOFFSETFROM:-0400
TZOFFSETTO:-0500
TZNAME:EST
DTSTART:20231105T060000
END:STANDARD
BEGIN:DAYLIGHT
TZOFFSETFROM:-0500
TZOFFSETTO:-0400
TZNAME:EDT
DTSTART:20240310T070000
END:DAYLIGHT
BEGIN:STANDARD
TZOFFSETFROM:-0400
TZOFFSETTO:-0500
TZNAME:EST
DTSTART:20241103T060000
END:STANDARD
BEGIN:DAYLIGHT
TZOFFSETFROM:-0500
TZOFFSETTO:-0400
TZNAME:EDT
DTSTART:20250309T070000
END:DAYLIGHT
BEGIN:STANDARD
TZOFFSETFROM:-0400
TZOFFSETTO:-0500
TZNAME:EST
DTSTART:20251102T060000
END:STANDARD
END:VTIMEZONE
BEGIN:VEVENT
DTSTART;TZID=America/New_York:20241207T110000
DTEND;TZID=America/New_York:20241207T160000
DTSTAMP:20260424T221316
CREATED:20241202T195620Z
LAST-MODIFIED:20241202T195626Z
UID:10000161-1733569200-1733587200@thereadingpost.com
SUMMARY:Arts Collaborative of Wakefield’s Annual Winter Artisan Sale
DESCRIPTION:The Arts Collaborative of Wakefield is proud to present its Annual Winter Artisan Sale in the main gallery of the Albion Cultural Exchange Building in Wakefield. Get into the spirit of the season and shop a variety of local and handmade products\, including artwork of all kinds – ceramics\, jewelry\, mixed media\, paintings\, prints\, photography\, and other hand-crafted items. In addition\, we’ll be doing our annual support of the Wakefield Food Pantry\, so please feel free to donate canned and dry goods. You will find us at 9 Albion Street\, Wakefield\, on Friday\, Dec 6\, from 5 pm – 8 pm and Saturday\, Dec 7\, from 11 am – 4 pm. For more information about the Arts Collaborative of Wakefield\, please go to artscollaborativeofwakefield.com. \nThe Arts Collaborative of Wakefield’s (ACW) mission is to support Wakefield and local community visual artists and craftsmen by providing opportunities for artists to network\, meet and share ideas\, display their work\, and create partnership programs between local artists and businesses. A key component of the ACW is its online artist registry used by artists\, patrons\, sponsors\, local businesses\, and enthusiasts. The online registry allows artists to identify themselves in terms of their artwork. The registry is also a great tool for non-artists to check out what is happening in the local art community and to find an artist or craftsman whose style they like or who they want to engage for a piece of artwork. Artists register at artscollaborativeofwakefield.com. Past and recent events sponsored and coordinated by the ACW include:  \nSpring Art Exhibit & Sale\nFall Art Exhibit & Sale\nHoliday Season Artisan’s Sale\nDemonstration Nights\nArt Supply Exchange / Sale\nThe ACW regular monthly meetings are typically the 3rd Wednesday of the month at the Albion Cultural Exchange Building (9 Albion St.) at 7pm. Feel free to come join us for a meeting! For contact info and to check out the community’s many local artists and their work. ACW Website: artscollaborativeofwakefield.com
URL:https://thereadingpost.com/event/arts-collaborative-of-wakefields-annual-winter-artisan-sale/
LOCATION:Albion Cultural Exchange Building\, 9 Albion St\, Wakefield\, MA\, 01880\, United States
ATTACH;FMTTYPE=image/jpeg:https://thereadingpost.com/wp-content/uploads/2024/12/image001.jpg
END:VEVENT
END:VCALENDAR