BEGIN:VCALENDAR
VERSION:2.0
PRODID:-//The Reading Post - ECPv6.15.20//NONSGML v1.0//EN
CALSCALE:GREGORIAN
METHOD:PUBLISH
X-WR-CALNAME:The Reading Post
X-ORIGINAL-URL:https://thereadingpost.com
X-WR-CALDESC:Events for The Reading Post
REFRESH-INTERVAL;VALUE=DURATION:PT1H
X-Robots-Tag:noindex
X-PUBLISHED-TTL:PT1H
BEGIN:VTIMEZONE
TZID:America/New_York
BEGIN:DAYLIGHT
TZOFFSETFROM:-0500
TZOFFSETTO:-0400
TZNAME:EDT
DTSTART:20250309T070000
END:DAYLIGHT
BEGIN:STANDARD
TZOFFSETFROM:-0400
TZOFFSETTO:-0500
TZNAME:EST
DTSTART:20251102T060000
END:STANDARD
BEGIN:DAYLIGHT
TZOFFSETFROM:-0500
TZOFFSETTO:-0400
TZNAME:EDT
DTSTART:20260308T070000
END:DAYLIGHT
BEGIN:STANDARD
TZOFFSETFROM:-0400
TZOFFSETTO:-0500
TZNAME:EST
DTSTART:20261101T060000
END:STANDARD
BEGIN:DAYLIGHT
TZOFFSETFROM:-0500
TZOFFSETTO:-0400
TZNAME:EDT
DTSTART:20270314T070000
END:DAYLIGHT
BEGIN:STANDARD
TZOFFSETFROM:-0400
TZOFFSETTO:-0500
TZNAME:EST
DTSTART:20271107T060000
END:STANDARD
END:VTIMEZONE
BEGIN:VEVENT
DTSTART;TZID=America/New_York:20260502T133000
DTEND;TZID=America/New_York:20260502T133000
DTSTAMP:20260424T092743
CREATED:20260424T080616Z
LAST-MODIFIED:20260424T080623Z
UID:10000424-1777728600-1777728600@thereadingpost.com
SUMMARY:Scottish Prisoners of War in Reading During the American Revolution
DESCRIPTION:Reading Public Library hosts historian Christopher Hall for a deep dive into the capture and imprisonment of Highland soldiers in 1776 Massachusetts\nReading\, MA —  Join the Reading Public Library and Reading Antiquarian Society as Chris Hall presents his talk on Scottish Prisoners of War in Reading and Beyond During the American Revolution. \nIn June 1776\, the 71st Regiment of Foot\, British Army soldiers from the highlands of Scotland\, were captured by American privateers in Boston Harbor. The regiment\, along with their families\, servants\, and families of their servants\, were imprisoned and paroled across Massachusetts. The Lieutenant Colonel of this regiment\, Archibald Campbell\, was paroled at the Parker Tavern in Reading\, and his Officers were paroled in an encampment nearby. This talk will investigate the contextual wartime dynamic during which this regiment was kept as prisoners of war\, and the effect it had on Patriots\, Loyalists\, and everyday people in Reading and across Massachusetts. \nThe program will begin at 1:30 on May 2 at Reading Public Library in the A/B conference room\, but come early to mingle with other history buffs! \nChristopher Hall\, the caretaker at Parker Tavern\, will give the talk. He also works in other capacities for the National Park Service as a historical interpreter in Boston.
URL:https://thereadingpost.com/event/scottish-prisoners-of-war-in-reading-during-the-american-revolution/
LOCATION:Reading Public Library\, 64 Middlesex Avenue\, Reading\, MA\, 01867\, United States
ATTACH;FMTTYPE=image/jpeg:https://thereadingpost.com/wp-content/uploads/2026/04/parkertavern26.jpg
ORGANIZER;CN="Reading Antiquarian Society":MAILTO:Parkertavern1694@gmail.com
END:VEVENT
END:VCALENDAR