BEGIN:VCALENDAR
VERSION:2.0
PRODID:-//The Reading Post - ECPv6.15.20//NONSGML v1.0//EN
CALSCALE:GREGORIAN
METHOD:PUBLISH
X-WR-CALNAME:The Reading Post
X-ORIGINAL-URL:https://thereadingpost.com
X-WR-CALDESC:Events for The Reading Post
REFRESH-INTERVAL;VALUE=DURATION:PT1H
X-Robots-Tag:noindex
X-PUBLISHED-TTL:PT1H
BEGIN:VTIMEZONE
TZID:America/New_York
BEGIN:DAYLIGHT
TZOFFSETFROM:-0500
TZOFFSETTO:-0400
TZNAME:EDT
DTSTART:20250309T070000
END:DAYLIGHT
BEGIN:STANDARD
TZOFFSETFROM:-0400
TZOFFSETTO:-0500
TZNAME:EST
DTSTART:20251102T060000
END:STANDARD
BEGIN:DAYLIGHT
TZOFFSETFROM:-0500
TZOFFSETTO:-0400
TZNAME:EDT
DTSTART:20260308T070000
END:DAYLIGHT
BEGIN:STANDARD
TZOFFSETFROM:-0400
TZOFFSETTO:-0500
TZNAME:EST
DTSTART:20261101T060000
END:STANDARD
BEGIN:DAYLIGHT
TZOFFSETFROM:-0500
TZOFFSETTO:-0400
TZNAME:EDT
DTSTART:20270314T070000
END:DAYLIGHT
BEGIN:STANDARD
TZOFFSETFROM:-0400
TZOFFSETTO:-0500
TZNAME:EST
DTSTART:20271107T060000
END:STANDARD
END:VTIMEZONE
BEGIN:VEVENT
DTSTART;TZID=America/New_York:20260430T183000
DTEND;TZID=America/New_York:20260430T200000
DTSTAMP:20260424T110806
CREATED:20260424T093000Z
LAST-MODIFIED:20260424T093000Z
UID:10000441-1777573800-1777579200@thereadingpost.com
SUMMARY:Learn a New Language at Reading Public Library
DESCRIPTION:Free English classes\, language learning tools\, and resources available for all ages and skill levels\nReading\, MA — The Reading Public Library (RPL) invites community members to explore new language learning opportunities through free classes and resources designed for all ages and skill levels. \nBeginning Thursday\, April 23\, the library will offer an eight-week Beginner English Class for adults. Held from 6:30–8:00 PM\, the class is designed to help participants build confidence and improve speaking\, listening\, reading\, and writing skills. The program is led by RPL Librarian Ashley Cristiano\, who has more than five years of experience teaching English to Speakers of Other Languages and specializes in working with adult beginners. No registration is required—participants may simply attend. \nFor those who prefer to learn at home\, Mango Languages is available free with a library card. This online platform offers lessons in a wide range of languages\, including Portuguese\, Arabic\, English\, and American Sign Language\, allowing users to learn at their own pace. \nFamilies can also access LOTE4Kids\, a digital collection featuring more than 4\,500 picture books in over 70 languages\, making it easy for children to enjoy stories in their native language or discover new ones. \nIn addition\, the library offers translation tools for borrowing\, including a Language Translator for documents and the PockeTalk Translator for real-time conversations. These devices are available at any service desk. \nThe Reading Public Library remains committed to providing a welcoming and inclusive environment where everyone can learn and grow. For more information\, visit the library or explore its website.
URL:https://thereadingpost.com/event/learn-a-new-language-at-reading-public-library/2026-04-30/
LOCATION:Reading Public Library\, 64 Middlesex Avenue\, Reading\, MA\, 01867\, United States
ATTACH;FMTTYPE=image/png:https://thereadingpost.com/wp-content/uploads/2026/04/Beginner-English-Print-Flyer.png
END:VEVENT
BEGIN:VEVENT
DTSTART;TZID=America/New_York:20260507T183000
DTEND;TZID=America/New_York:20260507T200000
DTSTAMP:20260424T110806
CREATED:20260424T093000Z
LAST-MODIFIED:20260424T093000Z
UID:10000442-1778178600-1778184000@thereadingpost.com
SUMMARY:Learn a New Language at Reading Public Library
DESCRIPTION:Free English classes\, language learning tools\, and resources available for all ages and skill levels\nReading\, MA — The Reading Public Library (RPL) invites community members to explore new language learning opportunities through free classes and resources designed for all ages and skill levels. \nBeginning Thursday\, April 23\, the library will offer an eight-week Beginner English Class for adults. Held from 6:30–8:00 PM\, the class is designed to help participants build confidence and improve speaking\, listening\, reading\, and writing skills. The program is led by RPL Librarian Ashley Cristiano\, who has more than five years of experience teaching English to Speakers of Other Languages and specializes in working with adult beginners. No registration is required—participants may simply attend. \nFor those who prefer to learn at home\, Mango Languages is available free with a library card. This online platform offers lessons in a wide range of languages\, including Portuguese\, Arabic\, English\, and American Sign Language\, allowing users to learn at their own pace. \nFamilies can also access LOTE4Kids\, a digital collection featuring more than 4\,500 picture books in over 70 languages\, making it easy for children to enjoy stories in their native language or discover new ones. \nIn addition\, the library offers translation tools for borrowing\, including a Language Translator for documents and the PockeTalk Translator for real-time conversations. These devices are available at any service desk. \nThe Reading Public Library remains committed to providing a welcoming and inclusive environment where everyone can learn and grow. For more information\, visit the library or explore its website.
URL:https://thereadingpost.com/event/learn-a-new-language-at-reading-public-library/2026-05-07/
LOCATION:Reading Public Library\, 64 Middlesex Avenue\, Reading\, MA\, 01867\, United States
ATTACH;FMTTYPE=image/png:https://thereadingpost.com/wp-content/uploads/2026/04/Beginner-English-Print-Flyer.png
END:VEVENT
BEGIN:VEVENT
DTSTART;TZID=America/New_York:20260514T183000
DTEND;TZID=America/New_York:20260514T200000
DTSTAMP:20260424T110806
CREATED:20260424T093000Z
LAST-MODIFIED:20260424T093000Z
UID:10000443-1778783400-1778788800@thereadingpost.com
SUMMARY:Learn a New Language at Reading Public Library
DESCRIPTION:Free English classes\, language learning tools\, and resources available for all ages and skill levels\nReading\, MA — The Reading Public Library (RPL) invites community members to explore new language learning opportunities through free classes and resources designed for all ages and skill levels. \nBeginning Thursday\, April 23\, the library will offer an eight-week Beginner English Class for adults. Held from 6:30–8:00 PM\, the class is designed to help participants build confidence and improve speaking\, listening\, reading\, and writing skills. The program is led by RPL Librarian Ashley Cristiano\, who has more than five years of experience teaching English to Speakers of Other Languages and specializes in working with adult beginners. No registration is required—participants may simply attend. \nFor those who prefer to learn at home\, Mango Languages is available free with a library card. This online platform offers lessons in a wide range of languages\, including Portuguese\, Arabic\, English\, and American Sign Language\, allowing users to learn at their own pace. \nFamilies can also access LOTE4Kids\, a digital collection featuring more than 4\,500 picture books in over 70 languages\, making it easy for children to enjoy stories in their native language or discover new ones. \nIn addition\, the library offers translation tools for borrowing\, including a Language Translator for documents and the PockeTalk Translator for real-time conversations. These devices are available at any service desk. \nThe Reading Public Library remains committed to providing a welcoming and inclusive environment where everyone can learn and grow. For more information\, visit the library or explore its website.
URL:https://thereadingpost.com/event/learn-a-new-language-at-reading-public-library/2026-05-14/
LOCATION:Reading Public Library\, 64 Middlesex Avenue\, Reading\, MA\, 01867\, United States
ATTACH;FMTTYPE=image/png:https://thereadingpost.com/wp-content/uploads/2026/04/Beginner-English-Print-Flyer.png
END:VEVENT
BEGIN:VEVENT
DTSTART;TZID=America/New_York:20260521T183000
DTEND;TZID=America/New_York:20260521T200000
DTSTAMP:20260424T110806
CREATED:20260424T093000Z
LAST-MODIFIED:20260424T093000Z
UID:10000444-1779388200-1779393600@thereadingpost.com
SUMMARY:Learn a New Language at Reading Public Library
DESCRIPTION:Free English classes\, language learning tools\, and resources available for all ages and skill levels\nReading\, MA — The Reading Public Library (RPL) invites community members to explore new language learning opportunities through free classes and resources designed for all ages and skill levels. \nBeginning Thursday\, April 23\, the library will offer an eight-week Beginner English Class for adults. Held from 6:30–8:00 PM\, the class is designed to help participants build confidence and improve speaking\, listening\, reading\, and writing skills. The program is led by RPL Librarian Ashley Cristiano\, who has more than five years of experience teaching English to Speakers of Other Languages and specializes in working with adult beginners. No registration is required—participants may simply attend. \nFor those who prefer to learn at home\, Mango Languages is available free with a library card. This online platform offers lessons in a wide range of languages\, including Portuguese\, Arabic\, English\, and American Sign Language\, allowing users to learn at their own pace. \nFamilies can also access LOTE4Kids\, a digital collection featuring more than 4\,500 picture books in over 70 languages\, making it easy for children to enjoy stories in their native language or discover new ones. \nIn addition\, the library offers translation tools for borrowing\, including a Language Translator for documents and the PockeTalk Translator for real-time conversations. These devices are available at any service desk. \nThe Reading Public Library remains committed to providing a welcoming and inclusive environment where everyone can learn and grow. For more information\, visit the library or explore its website.
URL:https://thereadingpost.com/event/learn-a-new-language-at-reading-public-library/2026-05-21/
LOCATION:Reading Public Library\, 64 Middlesex Avenue\, Reading\, MA\, 01867\, United States
ATTACH;FMTTYPE=image/png:https://thereadingpost.com/wp-content/uploads/2026/04/Beginner-English-Print-Flyer.png
END:VEVENT
BEGIN:VEVENT
DTSTART;TZID=America/New_York:20260528T183000
DTEND;TZID=America/New_York:20260528T200000
DTSTAMP:20260424T110806
CREATED:20260424T093206Z
LAST-MODIFIED:20260424T093309Z
UID:10000445-1779993000-1779998400@thereadingpost.com
SUMMARY:Learn a New Language at Reading Public Library
DESCRIPTION:Free English classes\, language learning tools\, and resources available for all ages and skill levels\nReading\, MA — The Reading Public Library (RPL) invites community members to explore new language learning opportunities through free classes and resources designed for all ages and skill levels. \nBeginning Thursday\, April 23\, the library will offer an eight-week Beginner English Class for adults. Held from 6:30–8:00 PM\, the class is designed to help participants build confidence and improve speaking\, listening\, reading\, and writing skills. The program is led by RPL Librarian Ashley Cristiano\, who has more than five years of experience teaching English to Speakers of Other Languages and specializes in working with adult beginners. No registration is required—participants may simply attend. \nFor those who prefer to learn at home\, Mango Languages is available free with a library card. This online platform offers lessons in a wide range of languages\, including Portuguese\, Arabic\, English\, and American Sign Language\, allowing users to learn at their own pace. \nFamilies can also access LOTE4Kids\, a digital collection featuring more than 4\,500 picture books in over 70 languages\, making it easy for children to enjoy stories in their native language or discover new ones. \nIn addition\, the library offers translation tools for borrowing\, including a Language Translator for documents and the PockeTalk Translator for real-time conversations. These devices are available at any service desk. \nThe Reading Public Library remains committed to providing a welcoming and inclusive environment where everyone can learn and grow. For more information\, visit the library or explore its website.
URL:https://thereadingpost.com/event/learn-a-new-language-at-reading-public-library-2/2026-05-28/
LOCATION:Reading Public Library\, 64 Middlesex Avenue\, Reading\, MA\, 01867\, United States
ATTACH;FMTTYPE=image/png:https://thereadingpost.com/wp-content/uploads/2026/04/Beginner-English-Print-Flyer.png
END:VEVENT
BEGIN:VEVENT
DTSTART;TZID=America/New_York:20260604T183000
DTEND;TZID=America/New_York:20260604T200000
DTSTAMP:20260424T110806
CREATED:20260424T093206Z
LAST-MODIFIED:20260424T093309Z
UID:10000446-1780597800-1780603200@thereadingpost.com
SUMMARY:Learn a New Language at Reading Public Library
DESCRIPTION:Free English classes\, language learning tools\, and resources available for all ages and skill levels\nReading\, MA — The Reading Public Library (RPL) invites community members to explore new language learning opportunities through free classes and resources designed for all ages and skill levels. \nBeginning Thursday\, April 23\, the library will offer an eight-week Beginner English Class for adults. Held from 6:30–8:00 PM\, the class is designed to help participants build confidence and improve speaking\, listening\, reading\, and writing skills. The program is led by RPL Librarian Ashley Cristiano\, who has more than five years of experience teaching English to Speakers of Other Languages and specializes in working with adult beginners. No registration is required—participants may simply attend. \nFor those who prefer to learn at home\, Mango Languages is available free with a library card. This online platform offers lessons in a wide range of languages\, including Portuguese\, Arabic\, English\, and American Sign Language\, allowing users to learn at their own pace. \nFamilies can also access LOTE4Kids\, a digital collection featuring more than 4\,500 picture books in over 70 languages\, making it easy for children to enjoy stories in their native language or discover new ones. \nIn addition\, the library offers translation tools for borrowing\, including a Language Translator for documents and the PockeTalk Translator for real-time conversations. These devices are available at any service desk. \nThe Reading Public Library remains committed to providing a welcoming and inclusive environment where everyone can learn and grow. For more information\, visit the library or explore its website.
URL:https://thereadingpost.com/event/learn-a-new-language-at-reading-public-library-2/2026-06-04/
LOCATION:Reading Public Library\, 64 Middlesex Avenue\, Reading\, MA\, 01867\, United States
ATTACH;FMTTYPE=image/png:https://thereadingpost.com/wp-content/uploads/2026/04/Beginner-English-Print-Flyer.png
END:VEVENT
BEGIN:VEVENT
DTSTART;TZID=America/New_York:20260611T183000
DTEND;TZID=America/New_York:20260611T200000
DTSTAMP:20260424T110806
CREATED:20260424T093206Z
LAST-MODIFIED:20260424T093309Z
UID:10000447-1781202600-1781208000@thereadingpost.com
SUMMARY:Learn a New Language at Reading Public Library
DESCRIPTION:Free English classes\, language learning tools\, and resources available for all ages and skill levels\nReading\, MA — The Reading Public Library (RPL) invites community members to explore new language learning opportunities through free classes and resources designed for all ages and skill levels. \nBeginning Thursday\, April 23\, the library will offer an eight-week Beginner English Class for adults. Held from 6:30–8:00 PM\, the class is designed to help participants build confidence and improve speaking\, listening\, reading\, and writing skills. The program is led by RPL Librarian Ashley Cristiano\, who has more than five years of experience teaching English to Speakers of Other Languages and specializes in working with adult beginners. No registration is required—participants may simply attend. \nFor those who prefer to learn at home\, Mango Languages is available free with a library card. This online platform offers lessons in a wide range of languages\, including Portuguese\, Arabic\, English\, and American Sign Language\, allowing users to learn at their own pace. \nFamilies can also access LOTE4Kids\, a digital collection featuring more than 4\,500 picture books in over 70 languages\, making it easy for children to enjoy stories in their native language or discover new ones. \nIn addition\, the library offers translation tools for borrowing\, including a Language Translator for documents and the PockeTalk Translator for real-time conversations. These devices are available at any service desk. \nThe Reading Public Library remains committed to providing a welcoming and inclusive environment where everyone can learn and grow. For more information\, visit the library or explore its website.
URL:https://thereadingpost.com/event/learn-a-new-language-at-reading-public-library-2/2026-06-11/
LOCATION:Reading Public Library\, 64 Middlesex Avenue\, Reading\, MA\, 01867\, United States
ATTACH;FMTTYPE=image/png:https://thereadingpost.com/wp-content/uploads/2026/04/Beginner-English-Print-Flyer.png
END:VEVENT
END:VCALENDAR