BEGIN:VCALENDAR
VERSION:2.0
PRODID:-//The Reading Post - ECPv6.15.20//NONSGML v1.0//EN
CALSCALE:GREGORIAN
METHOD:PUBLISH
X-WR-CALNAME:The Reading Post
X-ORIGINAL-URL:https://thereadingpost.com
X-WR-CALDESC:Events for The Reading Post
REFRESH-INTERVAL;VALUE=DURATION:PT1H
X-Robots-Tag:noindex
X-PUBLISHED-TTL:PT1H
BEGIN:VTIMEZONE
TZID:America/New_York
BEGIN:DAYLIGHT
TZOFFSETFROM:-0500
TZOFFSETTO:-0400
TZNAME:EDT
DTSTART:20250309T070000
END:DAYLIGHT
BEGIN:STANDARD
TZOFFSETFROM:-0400
TZOFFSETTO:-0500
TZNAME:EST
DTSTART:20251102T060000
END:STANDARD
BEGIN:DAYLIGHT
TZOFFSETFROM:-0500
TZOFFSETTO:-0400
TZNAME:EDT
DTSTART:20260308T070000
END:DAYLIGHT
BEGIN:STANDARD
TZOFFSETFROM:-0400
TZOFFSETTO:-0500
TZNAME:EST
DTSTART:20261101T060000
END:STANDARD
BEGIN:DAYLIGHT
TZOFFSETFROM:-0500
TZOFFSETTO:-0400
TZNAME:EDT
DTSTART:20270314T070000
END:DAYLIGHT
BEGIN:STANDARD
TZOFFSETFROM:-0400
TZOFFSETTO:-0500
TZNAME:EST
DTSTART:20271107T060000
END:STANDARD
END:VTIMEZONE
BEGIN:VEVENT
DTSTART;TZID=America/New_York:20260501T193000
DTEND;TZID=America/New_York:20260501T210000
DTSTAMP:20260424T112613
CREATED:20260424T090446Z
LAST-MODIFIED:20260424T091143Z
UID:10000431-1777663800-1777669200@thereadingpost.com
SUMMARY:RMHS Drama Club Presents Clue: High School Edition
DESCRIPTION:Reading\, MA — The Reading Memorial High School Drama Club proudly presents its spring production of Clue: High School Edition\, written by Sandy Rustin. \n\n\n\nBased on the iconic board game and inspired by the beloved 1985 film\, this fast-paced comedy invites audiences to Boddy Manor\, where six mysterious guests\, one suspicious butler\, and a mansion full of secrets collide in a night of comedic chaos. When the lights go out and the host turns up dead\, everyone becomes a suspect. Follow along to uncover the secrets of Boddy Manor and the true identity of the murderer.  \n\n\n\nThis special Student Showcase highlights the extraordinary talent of students both on and off stage. Featuring student direction\, design\, and performance\, the production celebrates the creativity and leadership of the award-winning RMHS Drama Club.  \n\n\n\n Performance Dates: \n\n\n\n\nFriday\, May 1 at 7:30 PM\n\n\n\nSaturday\, May 2 at 7:30 PM\n\n\n\nSunday\, May 3 at 2:00 PM\n\n\n\n\n Location:William E. Endslow Performing Arts CenterReading Memorial High School62 Oakland Road\, Reading\, MA \n\n\n\n Tickets:Available at www.rmhsdrama.org \n\n\n\n Creative Team: \n\n\n\n\n Directed by Jason Walsh ‘26\n\n\n\n Assistant Directors: Natalie Cunha & Katie Donovan\n\n\n\n Technical Directors: Lucas Reis ‘26 & Kevin Gerstner\n\n\n\n\nJoin us for an evening of mystery\, mayhem\, and comedy for the whole family as Clue comes to life on stage!  \n\n\n\n\n\n\n\n\n\n\n\n\n\n\n\n 
URL:https://thereadingpost.com/event/rmhs-drama-club-presents-clue-high-school-edition-4/
LOCATION:RMHS Performing Arts Center\, 62 Oakland Road\, Reading\, MA\, 01867\, United States
ATTACH;FMTTYPE=image/jpeg:https://thereadingpost.com/wp-content/uploads/2026/04/CLUE-Instagram-Post-45.jpg
END:VEVENT
BEGIN:VEVENT
DTSTART;TZID=America/New_York:20260502T193000
DTEND;TZID=America/New_York:20260502T200000
DTSTAMP:20260424T112614
CREATED:20260424T090232Z
LAST-MODIFIED:20260424T090235Z
UID:10000432-1777750200-1777752000@thereadingpost.com
SUMMARY:RMHS Drama Club Presents Clue: High School Edition
DESCRIPTION:Reading\, MA — The Reading Memorial High School Drama Club proudly presents its spring production of Clue: High School Edition\, written by Sandy Rustin. \n\n\n\nBased on the iconic board game and inspired by the beloved 1985 film\, this fast-paced comedy invites audiences to Boddy Manor\, where six mysterious guests\, one suspicious butler\, and a mansion full of secrets collide in a night of comedic chaos. When the lights go out and the host turns up dead\, everyone becomes a suspect. Follow along to uncover the secrets of Boddy Manor and the true identity of the murderer.  \n\n\n\nThis special Student Showcase highlights the extraordinary talent of students both on and off stage. Featuring student direction\, design\, and performance\, the production celebrates the creativity and leadership of the award-winning RMHS Drama Club.  \n\n\n\n Performance Dates: \n\n\n\n\nFriday\, May 1 at 7:30 PM\n\n\n\nSaturday\, May 2 at 7:30 PM\n\n\n\nSunday\, May 3 at 2:00 PM\n\n\n\n\n Location:William E. Endslow Performing Arts CenterReading Memorial High School62 Oakland Road\, Reading\, MA \n\n\n\n Tickets:Available at www.rmhsdrama.org \n\n\n\n Creative Team: \n\n\n\n\n Directed by Jason Walsh ‘26\n\n\n\n Assistant Directors: Natalie Cunha & Katie Donovan\n\n\n\n Technical Directors: Lucas Reis ‘26 & Kevin Gerstner\n\n\n\n\nJoin us for an evening of mystery\, mayhem\, and comedy for the whole family as Clue comes to life on stage! 
URL:https://thereadingpost.com/event/rmhs-drama-club-presents-clue-high-school-edition-3/2026-05-02/
LOCATION:RMHS Performing Arts Center\, 62 Oakland Road\, Reading\, MA\, 01867\, United States
ATTACH;FMTTYPE=image/jpeg:https://thereadingpost.com/wp-content/uploads/2026/04/CLUE-Instagram-Post-45.jpg
END:VEVENT
BEGIN:VEVENT
DTSTART;TZID=America/New_York:20260503T140000
DTEND;TZID=America/New_York:20260503T170000
DTSTAMP:20260424T112614
CREATED:20260424T090232Z
LAST-MODIFIED:20260424T090235Z
UID:10000433-1777816800-1777827600@thereadingpost.com
SUMMARY:RMHS Drama Club Presents Clue: High School Edition
DESCRIPTION:Reading\, MA — The Reading Memorial High School Drama Club proudly presents its spring production of Clue: High School Edition\, written by Sandy Rustin. \n\n\n\nBased on the iconic board game and inspired by the beloved 1985 film\, this fast-paced comedy invites audiences to Boddy Manor\, where six mysterious guests\, one suspicious butler\, and a mansion full of secrets collide in a night of comedic chaos. When the lights go out and the host turns up dead\, everyone becomes a suspect. Follow along to uncover the secrets of Boddy Manor and the true identity of the murderer.  \n\n\n\nThis special Student Showcase highlights the extraordinary talent of students both on and off stage. Featuring student direction\, design\, and performance\, the production celebrates the creativity and leadership of the award-winning RMHS Drama Club.  \n\n\n\n Performance Dates: \n\n\n\n\nFriday\, May 1 at 7:30 PM\n\n\n\nSaturday\, May 2 at 7:30 PM\n\n\n\nSunday\, May 3 at 2:00 PM\n\n\n\n\n Location:William E. Endslow Performing Arts CenterReading Memorial High School62 Oakland Road\, Reading\, MA \n\n\n\n Tickets:Available at www.rmhsdrama.org \n\n\n\n Creative Team: \n\n\n\n\n Directed by Jason Walsh ‘26\n\n\n\n Assistant Directors: Natalie Cunha & Katie Donovan\n\n\n\n Technical Directors: Lucas Reis ‘26 & Kevin Gerstner\n\n\n\n\nJoin us for an evening of mystery\, mayhem\, and comedy for the whole family as Clue comes to life on stage! 
URL:https://thereadingpost.com/event/rmhs-drama-club-presents-clue-high-school-edition-3/2026-05-03/
LOCATION:RMHS Performing Arts Center\, 62 Oakland Road\, Reading\, MA\, 01867\, United States
ATTACH;FMTTYPE=image/jpeg:https://thereadingpost.com/wp-content/uploads/2026/04/CLUE-Instagram-Post-45.jpg
END:VEVENT
END:VCALENDAR